BEGIN:VCALENDAR
VERSION:2.0
PRODID:-//DOCWA - ECPv6.15.20//NONSGML v1.0//EN
CALSCALE:GREGORIAN
METHOD:PUBLISH
X-WR-CALNAME:DOCWA
X-ORIGINAL-URL:https://docwa.com.au
X-WR-CALDESC:Events for DOCWA
REFRESH-INTERVAL;VALUE=DURATION:PT1H
X-Robots-Tag:noindex
X-PUBLISHED-TTL:PT1H
BEGIN:VTIMEZONE
TZID:Asia/Shanghai
BEGIN:STANDARD
TZOFFSETFROM:+0800
TZOFFSETTO:+0800
TZNAME:CST
DTSTART:20240101T000000
END:STANDARD
END:VTIMEZONE
BEGIN:VEVENT
DTSTART;TZID=Asia/Shanghai:20250202T080000
DTEND;TZID=Asia/Shanghai:20250202T113000
DTSTAMP:20260421T181536
CREATED:20250116T122655Z
LAST-MODIFIED:20250116T122655Z
UID:2403-1738483200-1738495800@docwa.com.au
SUMMARY:Sunday Breakfast Ride
DESCRIPTION:Suitable ride 404 bikes.Stands up 8.20Ride Captain Dave Lunn
URL:https://docwa.com.au/event/sunday-breakfast-ride-3/
LOCATION:BP Wild Bean in Ascot
END:VEVENT
BEGIN:VEVENT
DTSTART;TZID=Asia/Shanghai:20250209T090000
DTEND;TZID=Asia/Shanghai:20250209T120000
DTSTAMP:20260421T181536
CREATED:20250116T123139Z
LAST-MODIFIED:20250207T113250Z
UID:2405-1739091600-1739102400@docwa.com.au
SUMMARY:All Italian Display - Fishing Boat Harbour\, Fremantle
DESCRIPTION:DOCWA had been invited to display bikes at the all Italian Day in Fremantle. \nWe will meet at the Caltex on South Street opposite Murdoch Uni at 9 am\, stands up at 9.15am with a scenic ride into Fremantle (Fishing Boat Harbour). \nDisplay time is from 10am and the event runs most of the day. If you can attend and display for even a couple of hours that would be awesome. You are not required to stay for entire event (but the organisers would love it if you did). \nAll Ducati models welcome to attend. In fact the more\, and more diverse collection of bikes we have the better. This event is not only for historic bikes. \nLook forward to seeing you thereCheersAlbers
URL:https://docwa.com.au/event/italian-display-fremantle-fishing-boat-harbour/
LOCATION:Caltex\, cnr South Street and Robson Way Murdoch (opp Murdoch Uni)
ORGANIZER;CN="Dave Alberghini":MAILTO:ride_captains@docwa.com.au
END:VEVENT
BEGIN:VEVENT
DTSTART;TZID=Asia/Shanghai:20250214T183000
DTEND;TZID=Asia/Shanghai:20250214T210000
DTSTAMP:20260421T181536
CREATED:20250116T123420Z
LAST-MODIFIED:20250116T123420Z
UID:2408-1739557800-1739566800@docwa.com.au
SUMMARY:Friday Valentine's Day Club Catchup/Social Sip
DESCRIPTION:Friday night. Valentine’s day so bring your partners!Catch up with other club members and have a chat.Stay for one or 3. Reasonable bar tab provided for membersTell us about what you’re up to and what bikes you have.Also a great opportunity to see what’s happening in the next few monthsGreenwood Hotel\, 349 Warwick Rd 6.30 pm See you then
URL:https://docwa.com.au/event/friday-valentines-day-club-catchup-social-sip/
LOCATION:Greenwood Hotel\, 349 Warwick Road\, Greenwood\, WA\, 6024\, Australia
ORGANIZER;CN="Dave Alberghini":MAILTO:ride_captains@docwa.com.au
END:VEVENT
BEGIN:VEVENT
DTSTART;TZID=Asia/Shanghai:20250223T081500
DTEND;TZID=Asia/Shanghai:20250223T133000
DTSTAMP:20260421T181536
CREATED:20250116T123613Z
LAST-MODIFIED:20250119T111023Z
UID:2411-1740298500-1740317400@docwa.com.au
SUMMARY:Club Ride New and Historic bikes welcome
DESCRIPTION:Club ride that will suit both modern and historic bikes\nUsual coffee stop planned.\nAmpol Foodary Byford 8.15 for stands up at 8.30am.\nRide captain Chrispy
URL:https://docwa.com.au/event/club-ride-sunday-for-404-bikes/
LOCATION:Ampol Foodary\, Byford
ORGANIZER;CN="Chrispy":MAILTO:404Registrar@docwa.com.au
END:VEVENT
END:VCALENDAR