BEGIN:VCALENDAR
VERSION:2.0
PRODID:-//DOCWA - ECPv6.15.20//NONSGML v1.0//EN
CALSCALE:GREGORIAN
METHOD:PUBLISH
X-WR-CALNAME:DOCWA
X-ORIGINAL-URL:https://docwa.com.au
X-WR-CALDESC:Events for DOCWA
REFRESH-INTERVAL;VALUE=DURATION:PT1H
X-Robots-Tag:noindex
X-PUBLISHED-TTL:PT1H
BEGIN:VTIMEZONE
TZID:Asia/Shanghai
BEGIN:STANDARD
TZOFFSETFROM:+0800
TZOFFSETTO:+0800
TZNAME:CST
DTSTART:20240101T000000
END:STANDARD
END:VTIMEZONE
BEGIN:VEVENT
DTSTART;TZID=Asia/Shanghai:20250118T173000
DTEND;TZID=Asia/Shanghai:20250118T210000
DTSTAMP:20260420T140223
CREATED:20250116T122516Z
LAST-MODIFIED:20250116T122516Z
UID:2401-1737221400-1737234000@docwa.com.au
SUMMARY:Saturday Evening Club Ride
DESCRIPTION:Night ride heading north and to the coast.A bight to eat at Peters By the Sea Scarborough then on a little more after dinner.Ride Captain Pres. Dave Alberghini
URL:https://docwa.com.au/event/saturday-evening-club-ride-2/
LOCATION:BP Wild Bean in Ascot
ORGANIZER;CN="Dave Alberghini":MAILTO:ride_captains@docwa.com.au
END:VEVENT
END:VCALENDAR