BEGIN:VCALENDAR
VERSION:2.0
PRODID:-//DOCWA - ECPv6.15.20//NONSGML v1.0//EN
CALSCALE:GREGORIAN
METHOD:PUBLISH
X-WR-CALNAME:DOCWA
X-ORIGINAL-URL:https://docwa.com.au
X-WR-CALDESC:Events for DOCWA
REFRESH-INTERVAL;VALUE=DURATION:PT1H
X-Robots-Tag:noindex
X-PUBLISHED-TTL:PT1H
BEGIN:VTIMEZONE
TZID:Asia/Shanghai
BEGIN:STANDARD
TZOFFSETFROM:+0800
TZOFFSETTO:+0800
TZNAME:CST
DTSTART:20230101T000000
END:STANDARD
END:VTIMEZONE
BEGIN:VEVENT
DTSTART;TZID=Asia/Shanghai:20241005T080000
DTEND;TZID=Asia/Shanghai:20241005T170000
DTSTAMP:20260420T074908
CREATED:20240717T125946Z
LAST-MODIFIED:20240913T074310Z
UID:2086-1728115200-1728147600@docwa.com.au
SUMMARY:Ride to the BST Capel River Classic
DESCRIPTION:This is The Ride to the 3rd annual Capel River Classic.\nAn opportunity for a great ride through some awesome south west roads before meeting up with the show.\nRide Captain Dave Lunn.\nEarly start time: 8.00 am sharp Location: Ampol Servo South West Highway and Nettleton Rd Byford
URL:https://docwa.com.au/event/ride-to-the-bst-capel-river-classic/
LOCATION:Ampol Foodary\, Byford
END:VEVENT
BEGIN:VEVENT
DTSTART;TZID=Asia/Shanghai:20241013T080000
DTEND;TZID=Asia/Shanghai:20241013T150000
DTSTAMP:20260420T074908
CREATED:20240216T025725Z
LAST-MODIFIED:20240924T130412Z
UID:2026-1728806400-1728831600@docwa.com.au
SUMMARY:Moto Italiane Ovest
DESCRIPTION:Ovest is on again this year.\nThe largest collection of Italian bikes in Perth. Time to bring out your bike.\nA great show. BRING YOUR BIKE!
URL:https://docwa.com.au/event/moto-ialiane-ovest/
LOCATION:Garvey Park\, Faunterloy Ave Ascot\, Fauntleroy Ave belmont\, perth
ORGANIZER;CN="Rochelle Burley":MAILTO:events@docwa.com.au
END:VEVENT
BEGIN:VEVENT
DTSTART;TZID=Asia/Shanghai:20241027T080000
DTEND;TZID=Asia/Shanghai:20241027T120000
DTSTAMP:20260420T074908
CREATED:20241017T122856Z
LAST-MODIFIED:20241025T122048Z
UID:2149-1730016000-1730030400@docwa.com.au
SUMMARY:Sunday Breakfast Ride
DESCRIPTION:Suitable ride for two up and 404 bikes.\nExpect a lakes\, ocean and river tour finishing at Matilda Bay at approx 10.00 am for breakfast\nThat gives everyone plenty of time to get home to watch the Moto GP in Thailand.\nStands up 8.30\nRide Captain Adrian Gagiero.
URL:https://docwa.com.au/event/sunday-breakfast-ride-2/
LOCATION:BP Wild Bean in Ascot
END:VEVENT
END:VCALENDAR