BEGIN:VCALENDAR
VERSION:2.0
PRODID:-//DOCWA - ECPv6.15.20//NONSGML v1.0//EN
CALSCALE:GREGORIAN
METHOD:PUBLISH
X-WR-CALNAME:DOCWA
X-ORIGINAL-URL:https://docwa.com.au
X-WR-CALDESC:Events for DOCWA
REFRESH-INTERVAL;VALUE=DURATION:PT1H
X-Robots-Tag:noindex
X-PUBLISHED-TTL:PT1H
BEGIN:VTIMEZONE
TZID:Asia/Shanghai
BEGIN:STANDARD
TZOFFSETFROM:+0800
TZOFFSETTO:+0800
TZNAME:CST
DTSTART:20230101T000000
END:STANDARD
END:VTIMEZONE
BEGIN:VEVENT
DTSTART;TZID=Asia/Shanghai:20240811T084500
DTEND;TZID=Asia/Shanghai:20240811T150000
DTSTAMP:20260420T043124
CREATED:20240717T130429Z
LAST-MODIFIED:20240808T011656Z
UID:2092-1723365900-1723388400@docwa.com.au
SUMMARY:Club Ride Sunday 11/8/24
DESCRIPTION:Hi all. Longer Club ride planned (300km ish) – with lunch in a lovely Wheatbelt pub. We’ll have a coffee stop along the way that will be perfect place for folks to depart if they can’t make the whole ride. Please be at the BP Ascot servo ready and fuelled for a 9am departure.\nThe weather forecast isn’t looking that flash – so please stay tuned for updates.
URL:https://docwa.com.au/event/club-ride-sunday-11-8/
LOCATION:BP Wild Bean in Ascot
END:VEVENT
BEGIN:VEVENT
DTSTART;TZID=Asia/Shanghai:20240825T090000
DTEND;TZID=Asia/Shanghai:20240825T113000
DTSTAMP:20260420T043124
CREATED:20240717T130318Z
LAST-MODIFIED:20240819T140615Z
UID:2090-1724576400-1724585400@docwa.com.au
SUMMARY:Sunday Breakfast Ride
DESCRIPTION:Scenic Metro Ride route planned\, about 1.5hrs in duration\,weather is looking fantastic for the morning. great ride for two up and 404 bikes. Ride ending in East Fremantle for brekkie at Beach Street Co .Stands up 9.15 sharpRide Captain Dave Alberghini.
URL:https://docwa.com.au/event/sunday-breakfast-ride/
LOCATION:BP Wild Bean in Ascot
ORGANIZER;CN="Dave Alberghini":MAILTO:ride_captains@docwa.com.au
END:VEVENT
END:VCALENDAR