BEGIN:VCALENDAR
VERSION:2.0
PRODID:-//DOCWA - ECPv6.15.20//NONSGML v1.0//EN
CALSCALE:GREGORIAN
METHOD:PUBLISH
X-WR-CALNAME:DOCWA
X-ORIGINAL-URL:https://docwa.com.au
X-WR-CALDESC:Events for DOCWA
REFRESH-INTERVAL;VALUE=DURATION:PT1H
X-Robots-Tag:noindex
X-PUBLISHED-TTL:PT1H
BEGIN:VTIMEZONE
TZID:Asia/Shanghai
BEGIN:STANDARD
TZOFFSETFROM:+0800
TZOFFSETTO:+0800
TZNAME:CST
DTSTART:20220101T000000
END:STANDARD
END:VTIMEZONE
BEGIN:VEVENT
DTSTART;TZID=Asia/Shanghai:20230506T080000
DTEND;TZID=Asia/Shanghai:20230507T150000
DTSTAMP:20260420T092752
CREATED:20230301T162643Z
LAST-MODIFIED:20230430T100850Z
UID:1842-1683360000-1683471600@docwa.com.au
SUMMARY:Wood Chop Weekender Ride
DESCRIPTION:We require help with collecting firewood for the Numduc Rally in June.\n\nCome along overnight\, just for the day\, or a couple of hours – whatever you can spare.\n\nMany Hands Make Light Work! Please let us know if you can spare some time to help \n\nIf you want to do the day trip\, we have arranged a ride to leave from the Ampol Foodary in Stratton (at the bottom of Toodyay Rd) at 8am sharp on Sat 6th!  We will get to the farm around 10am. The ride will return from Downerin around 3.30pm – getting back into Perth early evening.  Remember to bring workwear so you can help out!\n\nMay 6th and 7th.
URL:https://docwa.com.au/event/wood-chop-weekender-ride/
LOCATION:Grunters farm\, Dowerin-Meckering Rd\, Dowerin\, WA\, 6461\, Australia
END:VEVENT
BEGIN:VEVENT
DTSTART;TZID=Asia/Shanghai:20230519T190000
DTEND;TZID=Asia/Shanghai:20230519T210000
DTSTAMP:20260420T092752
CREATED:20230301T161231Z
LAST-MODIFIED:20230301T161231Z
UID:1839-1684522800-1684530000@docwa.com.au
SUMMARY:General Meeting
DESCRIPTION:All members of Ducati Owners Club of Western Australia encouraged to attend. \nBi-monthly general meeting. Come down for a drink and a chat\, starts around 7.00pm \nDrinks and snacks provided by the club
URL:https://docwa.com.au/event/general-meeting-3/
LOCATION:Belmont Sport & Recreation Club\, 400 Abernethy Rd\, Cloverdale\, WA\, 6105\, Australia
END:VEVENT
BEGIN:VEVENT
DTSTART;TZID=Asia/Shanghai:20230521T081500
DTEND;TZID=Asia/Shanghai:20230521T120000
DTSTAMP:20260420T092752
CREATED:20230301T155246Z
LAST-MODIFIED:20230428T020759Z
UID:1828-1684656900-1684670400@docwa.com.au
SUMMARY:Breakfast Ride (incl 404 bikes)
DESCRIPTION:Ride Captain Dave Lunn. \nBrekky ride and 404 bikes included. \nStands up 8.30 sharp
URL:https://docwa.com.au/event/breakfast-ride-incl-404-bikes/
LOCATION:BP Wild Bean in Ascot
END:VEVENT
END:VCALENDAR