BEGIN:VCALENDAR
VERSION:2.0
PRODID:-//DOCWA - ECPv6.15.20//NONSGML v1.0//EN
CALSCALE:GREGORIAN
METHOD:PUBLISH
X-WR-CALNAME:DOCWA
X-ORIGINAL-URL:https://docwa.com.au
X-WR-CALDESC:Events for DOCWA
REFRESH-INTERVAL;VALUE=DURATION:PT1H
X-Robots-Tag:noindex
X-PUBLISHED-TTL:PT1H
BEGIN:VTIMEZONE
TZID:Asia/Shanghai
BEGIN:STANDARD
TZOFFSETFROM:+0800
TZOFFSETTO:+0800
TZNAME:CST
DTSTART:20220101T000000
END:STANDARD
END:VTIMEZONE
BEGIN:VEVENT
DTSTART;TZID=Asia/Shanghai:20230402T063000
DTEND;TZID=Asia/Shanghai:20230402T163000
DTSTAMP:20260420T105516
CREATED:20230122T101651Z
LAST-MODIFIED:20230324T071530Z
UID:1800-1680417000-1680453000@docwa.com.au
SUMMARY:2023 Ducati Day WA including ride to the track
DESCRIPTION:UPDATE!!  \nDOCWA will have a group ride to Carco (for participants and spectators). \nIf you want to take part\, please be at the Puma Servo on Guildford Road Bayswater ready for a 6.30am departure on Sun 2 April!  We will top up fuel at Banksia Grove before heading up to the Raceway. We’ll get to the track around 7.15am. \nHope to see you there! \n——————————————————————————————— \nIt’s back! Ducati Perth is again booking out Carco (Wanneroo) Raceway. \nBookings will be made directly with Ducati Perth – starting later in February 2023. We will share details as they come to hand. \nDOCWA has decided to make riding to and from the raceway a club event (for participants and spectators). We will agree ride details later. \nJust make sure you block out the time and be ready to swoop when registrations open. It’s quite something having 100% Ducati’s on the track! \n \n 
URL:https://docwa.com.au/event/2023-ducati-perth-track-day/
LOCATION:Carco (Wanneroo) Raceway
ORGANIZER;CN="Rochelle Burley":MAILTO:events@docwa.com.au
END:VEVENT
BEGIN:VEVENT
DTSTART;TZID=Asia/Shanghai:20230416T083000
DTEND;TZID=Asia/Shanghai:20230416T140000
DTSTAMP:20260420T105516
CREATED:20230122T102136Z
LAST-MODIFIED:20230301T154746Z
UID:1805-1681633800-1681653600@docwa.com.au
SUMMARY:Club ride (including 404 bikes) to York MC Festival
DESCRIPTION:Ride Captain Chrispy has arranged a historic (Code 404) bike friendly ride ending up at the York Motorcycle Festival. \nAll members are welcome of course\, and it’ll be great to see a strong turnout from our 404 community.
URL:https://docwa.com.au/event/afternoon-ride-combined-404-event/
LOCATION:Ampol Foodary Midvale\, Great Eastern Highway\, 375 Great Eastern Hwy\, Midvale\, WA\, Australia
END:VEVENT
END:VCALENDAR