BEGIN:VCALENDAR
VERSION:2.0
PRODID:-//DOCWA - ECPv6.15.20//NONSGML v1.0//EN
CALSCALE:GREGORIAN
METHOD:PUBLISH
X-ORIGINAL-URL:https://docwa.com.au
X-WR-CALDESC:Events for DOCWA
REFRESH-INTERVAL;VALUE=DURATION:PT1H
X-Robots-Tag:noindex
X-PUBLISHED-TTL:PT1H
BEGIN:VTIMEZONE
TZID:Asia/Shanghai
BEGIN:STANDARD
TZOFFSETFROM:+0800
TZOFFSETTO:+0800
TZNAME:CST
DTSTART:20210101T000000
END:STANDARD
END:VTIMEZONE
BEGIN:VEVENT
DTSTART;TZID=Asia/Shanghai:20221204T093000
DTEND;TZID=Asia/Shanghai:20221204T120000
DTSTAMP:20260420T210346
CREATED:20220902T005600Z
LAST-MODIFIED:20221201T223828Z
UID:1684-1670146200-1670155200@docwa.com.au
SUMMARY:Club/Breaky ride coinciding with the annual charity ride
DESCRIPTION:Event by Dave Mcphee and Ducati Owners Club of Western Australia\n\n\n\n\n\n\n\n\n\n\n\n\n\n\n\n\n\n\nThe committee has decided for safety  reasons not to participate officially in the Annual Perth Bikers’ Charity Ride ending up at Joondalup.\n\nWe will have a short club ride/breaky ride and any donations to the charity will be matched by the club (up to a limit).\n\nRide will start at BP Ascot.\nFinish at  Mandoon Estate for a beer and pizza with a lunch subsidy of $20 per member\n\nSunday 4 December 2022.
URL:https://docwa.com.au/event/save-the-date-the-46th-annual-perth-bikers-charity-ride-2/
LOCATION:BP Wild Bean in Ascot
END:VEVENT
BEGIN:VEVENT
DTSTART;TZID=Asia/Shanghai:20221210T190000
DTEND;TZID=Asia/Shanghai:20221210T233000
DTSTAMP:20260420T210346
CREATED:20220929T133447Z
LAST-MODIFIED:20221111T030730Z
UID:1711-1670698800-1670715000@docwa.com.au
SUMMARY:DOCWA Christmas Party -
DESCRIPTION:DOCWA Xmas Party – December 10th\n\nLive Band\, food and generous bar tab for members.\n\nLock in the date. Watch out for an email to RSVP to\n\n\nAlwas a great catchup \n 
URL:https://docwa.com.au/event/docwa-christmas-party-details-coming-save-the-date/
LOCATION:The Seasonal Brewing Co.\, 175 Guildford Road\, Maylands\, WA\, 6051
ORGANIZER;CN="Rochelle Burley":MAILTO:events@docwa.com.au
END:VEVENT
BEGIN:VEVENT
DTSTART;TZID=Asia/Shanghai:20221229T110000
DTEND;TZID=Asia/Shanghai:20221229T140000
DTSTAMP:20260420T210346
CREATED:20221228T012250Z
LAST-MODIFIED:20221228T012457Z
UID:1770-1672311600-1672322400@docwa.com.au
SUMMARY:Impromptu run to Two rocks pub
DESCRIPTION:With Xmas over time for a Impromptu ride to Two rocks pub\, meet at the BP servo in Ascot at 11am for a run up the coast to 2 rocks.\n404 rego bikes please email ridecaptains@docwa.com.au to register it . cheers
URL:https://docwa.com.au/event/impromptu-run-to-two-rocks-pub/
LOCATION:BP Wild Bean in Ascot
END:VEVENT
END:VCALENDAR