BEGIN:VCALENDAR
VERSION:2.0
PRODID:-//DOCWA - ECPv6.15.20//NONSGML v1.0//EN
CALSCALE:GREGORIAN
METHOD:PUBLISH
X-ORIGINAL-URL:https://docwa.com.au
X-WR-CALDESC:Events for DOCWA
REFRESH-INTERVAL;VALUE=DURATION:PT1H
X-Robots-Tag:noindex
X-PUBLISHED-TTL:PT1H
BEGIN:VTIMEZONE
TZID:Asia/Shanghai
BEGIN:STANDARD
TZOFFSETFROM:+0800
TZOFFSETTO:+0800
TZNAME:CST
DTSTART:20210101T000000
END:STANDARD
END:VTIMEZONE
BEGIN:VEVENT
DTSTART;TZID=Asia/Shanghai:20221009T130000
DTEND;TZID=Asia/Shanghai:20221009T180000
DTSTAMP:20260420T223807
CREATED:20220929T131247Z
LAST-MODIFIED:20220929T131247Z
UID:1705-1665320400-1665338400@docwa.com.au
SUMMARY:Casual Arvo Ride (includes 404 bikes) - Captain Dave Lunn
DESCRIPTION:Note afternoon start time.\nNice casual ride – 404 friendly\, so bring out the old girls\nRide captain Dave Lunn
URL:https://docwa.com.au/event/casual-arvo-ride-includes-404-bikes-captain-dave-lunn/
LOCATION:BP Wild Bean in Ascot
END:VEVENT
BEGIN:VEVENT
DTSTART;TZID=Asia/Shanghai:20221012T193000
DTEND;TZID=Asia/Shanghai:20221012T210000
DTSTAMP:20260420T223807
CREATED:20220902T004225Z
LAST-MODIFIED:20221006T113915Z
UID:1678-1665603000-1665608400@docwa.com.au
SUMMARY:Monthly Committee Meeting Bayswater
DESCRIPTION:Monthly Committee Meeting
URL:https://docwa.com.au/event/monthly-committee-meeting-bayswater-2/
END:VEVENT
BEGIN:VEVENT
DTSTART;TZID=Asia/Shanghai:20221023T100000
DTEND;TZID=Asia/Shanghai:20221023T140000
DTSTAMP:20260420T223807
CREATED:20220217T150447Z
LAST-MODIFIED:20221019T094111Z
UID:1550-1666519200-1666533600@docwa.com.au
SUMMARY:Moto Italiane OVEST - The Best Motorcycle Show!
DESCRIPTION:###ONLY DAYS TO GO###\n\nOvest is on again this year!\nSunday 23 October 2022!\nThe largest collection of Italian bikes in Perth. Time to bring out your bike.\nThe best bike show in Perth!\nPlease see the flyer below for further information and also note the following: \n\nThis event is open to any Italian motorcycle – new or old\, modified or original\, pampered or well used… you get the point. We want to celebrate all marques in all their glory\nJudging for displayed bikes is solely people’s choice – across a range of categories.  So no need to hold back if your machine is not nut and bolt resto perfect…\nThe displayer ride from Ducati Perth to Garvey Park is great fun – but entirely optional.  If you want to come straight to Garvey Park that’s fine. Please try and arrive by 9.30am given the event opens to spectators at 10am.\nMany people chose not to display their bikes for fear of being ‘locked in’ for the full event timeframe. We certainly would prefer bikes to stay for as long as possible so as many people as possible get to enjoy them.  But if you need to get away a bit earlier that’s OK – as long as the bike is safely removed from the display whilst it is still in progress.\nFeel free to share the event details with as many people as possible. This event only happens every second year\, and the setting amongst the trees alongside the Swan River makes for a very memorable occasion.\n\nHope to see you there \nDOCWA Committee \n 
URL:https://docwa.com.au/event/moto-italiane-ovest/
LOCATION:Garvey Park\, Faunterloy Ave Ascot\, Fauntleroy Ave belmont\, perth
ORGANIZER;CN="Rochelle Burley":MAILTO:events@docwa.com.au
END:VEVENT
END:VCALENDAR