BEGIN:VCALENDAR
VERSION:2.0
PRODID:-//DOCWA - ECPv6.15.20//NONSGML v1.0//EN
CALSCALE:GREGORIAN
METHOD:PUBLISH
X-WR-CALNAME:DOCWA
X-ORIGINAL-URL:https://docwa.com.au
X-WR-CALDESC:Events for DOCWA
REFRESH-INTERVAL;VALUE=DURATION:PT1H
X-Robots-Tag:noindex
X-PUBLISHED-TTL:PT1H
BEGIN:VTIMEZONE
TZID:Asia/Shanghai
BEGIN:STANDARD
TZOFFSETFROM:+0800
TZOFFSETTO:+0800
TZNAME:CST
DTSTART:20210101T000000
END:STANDARD
END:VTIMEZONE
BEGIN:VEVENT
DTSTART;TZID=Asia/Shanghai:20220908T193000
DTEND;TZID=Asia/Shanghai:20220908T210000
DTSTAMP:20260421T014824
CREATED:20220902T003902Z
LAST-MODIFIED:20220902T003911Z
UID:1676-1662665400-1662670800@docwa.com.au
SUMMARY:Monthly Committee Meeting Bayswater
DESCRIPTION:Monthly Committee Meeting
URL:https://docwa.com.au/event/monthly-committee-meeting-bayswater/
END:VEVENT
BEGIN:VEVENT
DTSTART;TZID=Asia/Shanghai:20220911T080000
DTEND;TZID=Asia/Shanghai:20220911T150000
DTSTAMP:20260421T014824
CREATED:20220805T094205Z
LAST-MODIFIED:20220910T092721Z
UID:1642-1662883200-1662908400@docwa.com.au
SUMMARY:CANCELLED .............Classic on the Swan -
DESCRIPTION:Hi all\, Sundays ride and show at Langley Park Perth is cancelled for us\, we are all to busy at Docwa getting ready for our own shows.\nThe show at the Langley park is still on.\nSorry for the late notice.
URL:https://docwa.com.au/event/classic-on-the-swan-ride-to-show-n-shine/
END:VEVENT
BEGIN:VEVENT
DTSTART;TZID=Asia/Shanghai:20220916T190000
DTEND;TZID=Asia/Shanghai:20220916T213000
DTSTAMP:20260421T014824
CREATED:20220823T021232Z
LAST-MODIFIED:20220823T021232Z
UID:1668-1663354800-1663363800@docwa.com.au
SUMMARY:DOCWA General Meeting - Belmont Sports & Rec Club
DESCRIPTION:Come down\, share your ideas and catch up with everyone.
URL:https://docwa.com.au/event/docwa-general-meeting-belmont-sports-rec-club-2/
LOCATION:Belmont Sport & Recreation Club\, 400 Abernethy Rd\, Cloverdale\, WA\, 6105\, Australia
END:VEVENT
BEGIN:VEVENT
DTSTART;TZID=Asia/Shanghai:20220925T090000
DTEND;TZID=Asia/Shanghai:20220925T120000
DTSTAMP:20260421T014824
CREATED:20220805T093435Z
LAST-MODIFIED:20220922T050944Z
UID:1638-1664096400-1664107200@docwa.com.au
SUMMARY:Coffee Ride - Captain Dave Lunn
DESCRIPTION:Later start due to cold mornings\, low sun and soft riders \n8.45am arrive for 9.00am sharp departure. Remember it’s the Ride Captain’s decision to call the ride off (or not) if the weather turns nasty.  So stay tuned for announcements if it looks like rain. \nNote this is a long weekend – so we will be taking it easy. Relatively short ride with a coffee stop so we are back before lunchtime. cheers Dave L
URL:https://docwa.com.au/event/breakfast-ride-3/
LOCATION:BP Wild Bean in Ascot
END:VEVENT
END:VCALENDAR