BEGIN:VCALENDAR
VERSION:2.0
PRODID:-//DOCWA - ECPv6.15.20//NONSGML v1.0//EN
CALSCALE:GREGORIAN
METHOD:PUBLISH
X-WR-CALNAME:DOCWA
X-ORIGINAL-URL:https://docwa.com.au
X-WR-CALDESC:Events for DOCWA
REFRESH-INTERVAL;VALUE=DURATION:PT1H
X-Robots-Tag:noindex
X-PUBLISHED-TTL:PT1H
BEGIN:VTIMEZONE
TZID:Asia/Shanghai
BEGIN:STANDARD
TZOFFSETFROM:+0800
TZOFFSETTO:+0800
TZNAME:CST
DTSTART:20210101T000000
END:STANDARD
END:VTIMEZONE
BEGIN:VEVENT
DTSTART;TZID=Asia/Shanghai:20220703T100000
DTEND;TZID=Asia/Shanghai:20220703T133000
DTSTAMP:20260421T050925
CREATED:20220702T064019Z
LAST-MODIFIED:20220702T064019Z
UID:1617-1656842400-1656855000@docwa.com.au
SUMMARY:Casual ride this sunday
DESCRIPTION:casual ride\, meet at 10am for a lunch ride to somewhere warm. Jarradale tavern
URL:https://docwa.com.au/event/casual-ride-this-sunday/
LOCATION:BP Wild Bean in Ascot
END:VEVENT
BEGIN:VEVENT
DTSTART;TZID=Asia/Shanghai:20220709T190000
DTEND;TZID=Asia/Shanghai:20220709T210000
DTSTAMP:20260421T050925
CREATED:20220217T143332Z
LAST-MODIFIED:20220310T123246Z
UID:1529-1657393200-1657400400@docwa.com.au
SUMMARY:DOCWA Annual General Meeting AGM - Belmont Sports & Rec Club
DESCRIPTION:DOCWA Annual General Meeting – Please join us to share your ideas and catch up with everyone. \nThere will be positions on the commitee that you can give a few hours a month to keep the club going \nCovid Vax Certificate is needed and Drivers lic\, or the ServiceWA App
URL:https://docwa.com.au/event/docwa-annual-general-meeting-agm-belmont-sports-rec-club/
LOCATION:Belmont Sport & Recreation Club\, 400 Abernethy Rd\, Cloverdale\, WA\, 6105\, Australia
END:VEVENT
BEGIN:VEVENT
DTSTART;TZID=Asia/Shanghai:20220714T193000
DTEND;TZID=Asia/Shanghai:20220714T213000
DTSTAMP:20260421T050925
CREATED:20220217T145341Z
LAST-MODIFIED:20220217T145341Z
UID:1541-1657827000-1657834200@docwa.com.au
SUMMARY:Committee Meeting
DESCRIPTION:Monthly Committee Meeting – First for new committee
URL:https://docwa.com.au/event/committee-meeting-17/
LOCATION:Bayswater\, WA\, 6053\, Australia
END:VEVENT
BEGIN:VEVENT
DTSTART;TZID=Asia/Shanghai:20220717T083000
DTEND;TZID=Asia/Shanghai:20220717T123000
DTSTAMP:20260421T050925
CREATED:20220624T100541Z
LAST-MODIFIED:20220723T084645Z
UID:1607-1658046600-1658061000@docwa.com.au
SUMMARY:Breakfast Ride with Captain Alberghini
DESCRIPTION:First ride for the new club year!  Ride Captain Dave Alberghini (assuming he’s voted back into the role at the AGM!!) will lead us on a twisty ride finishing with brekkie somewhere warm. \n8.15am arrive for 8.30am sharp departure. \nRemember it’s the Ride Captain’s decision to call the ride off (or not) if the weather turns out to be crap.  So stay tuned for announcements if it looks like rain. \nPlease note new start location Ampol Byford \n  \n 
URL:https://docwa.com.au/event/breakfast-ride-with-captain-alberghini/
LOCATION:Ampol Foodary\, Byford
END:VEVENT
BEGIN:VEVENT
DTSTART;TZID=Asia/Shanghai:20220724T130000
DTEND;TZID=Asia/Shanghai:20220724T170000
DTSTAMP:20260421T050925
CREATED:20220723T022419Z
LAST-MODIFIED:20220723T022419Z
UID:1627-1658667600-1658682000@docwa.com.au
SUMMARY:Sunday casual ride
DESCRIPTION:Casual ride on a sunny Sunday  head down the coast for a beer
URL:https://docwa.com.au/event/sunday-casual-ride/
LOCATION:BP Wild Bean in Ascot
END:VEVENT
BEGIN:VEVENT
DTSTART;TZID=Asia/Shanghai:20220731T083000
DTEND;TZID=Asia/Shanghai:20220731T143000
DTSTAMP:20260421T050925
CREATED:20220727T094641Z
LAST-MODIFIED:20220727T094856Z
UID:1630-1659256200-1659277800@docwa.com.au
SUMMARY:Club Ride - Beverley - Captain Dave A
DESCRIPTION:Ride out to Beverley for lunch.  Round trip <350kms.  8.15am for 8.30am departure from BP Ascot (cnr GE Highway and Resolution Drive).  Look forward to seeing you.  Ride will be weather dependent of course. Assume the ride is on unless Ride Captain Dave A advises otherwise
URL:https://docwa.com.au/event/club-ride-beverley-captain-dave-a/
LOCATION:BP Wild Bean in Ascot
ORGANIZER;CN="Dave Alberghini":MAILTO:ride_captains@docwa.com.au
END:VEVENT
END:VCALENDAR