BEGIN:VCALENDAR
VERSION:2.0
PRODID:-//DOCWA - ECPv6.15.20//NONSGML v1.0//EN
CALSCALE:GREGORIAN
METHOD:PUBLISH
X-ORIGINAL-URL:https://docwa.com.au
X-WR-CALDESC:Events for DOCWA
REFRESH-INTERVAL;VALUE=DURATION:PT1H
X-Robots-Tag:noindex
X-PUBLISHED-TTL:PT1H
BEGIN:VTIMEZONE
TZID:Asia/Shanghai
BEGIN:STANDARD
TZOFFSETFROM:+0800
TZOFFSETTO:+0800
TZNAME:CST
DTSTART:20210101T000000
END:STANDARD
END:VTIMEZONE
BEGIN:VEVENT
DTSTART;TZID=Asia/Shanghai:20220204T190000
DTEND;TZID=Asia/Shanghai:20220204T200000
DTSTAMP:20260421T133109
CREATED:20220118T085937Z
LAST-MODIFIED:20220118T092220Z
UID:1494-1644001200-1644004800@docwa.com.au
SUMMARY:DOCWA General Meeting - Belmont Sports Club
DESCRIPTION:DOCWA General Meeting – Come down\, share your ideas and catch up with everyone\, Covid Vax  Certificate is needed and Drivers lic\, or the New App \n500 plus venue
URL:https://docwa.com.au/event/docwa-general-meeting-belmont-sports-club/
LOCATION:Belmont Sport & Recreation Club\, 400 Abernethy Rd\, Cloverdale\, WA\, 6105\, Australia
END:VEVENT
BEGIN:VEVENT
DTSTART;TZID=Asia/Shanghai:20220213T081500
DTEND;TZID=Asia/Shanghai:20220213T120000
DTSTAMP:20260421T133109
CREATED:20220118T090644Z
LAST-MODIFIED:20220209T015056Z
UID:1496-1644740100-1644753600@docwa.com.au
SUMMARY:Valentine's Breaky Ride - 2-UP- Ride Captain Dave Lunn
DESCRIPTION:Leisurely 2 up friendly run.  A great opportunity to meet fellow members and spouses.  Solo riders are of course welcome too. Your bike can be your significant other! We will be having a varied (but mostly twisty) ride to a nice cafe for breakfast in a little town east of Perth.  Total ride (including return to Perth) will be <200kms.  I will be leaving at 8.30am on the dot – so please arrive earlier for refueling\, briefing etc. Remember to bring masks and proof of vax to avoid awkwardness at our breakfast destination.  Thanks Dave L
URL:https://docwa.com.au/event/valentines-breaky-ride-2-up-ride-captain-dave-lunn/
LOCATION:BP Wild Bean in Ascot
END:VEVENT
BEGIN:VEVENT
DTSTART;TZID=Asia/Shanghai:20220220T083000
DTEND;TZID=Asia/Shanghai:20220220T123000
DTSTAMP:20260421T133109
CREATED:20220118T091041Z
LAST-MODIFIED:20220217T150615Z
UID:1499-1645345800-1645360200@docwa.com.au
SUMMARY:Breaky Ride - Ride Captain John Merc.
DESCRIPTION:
URL:https://docwa.com.au/event/breaky-ride-ride-captain-john-merc/
LOCATION:BP Wild Bean in Ascot
END:VEVENT
END:VCALENDAR