BEGIN:VCALENDAR
VERSION:2.0
PRODID:-//DOCWA - ECPv6.15.20//NONSGML v1.0//EN
CALSCALE:GREGORIAN
METHOD:PUBLISH
X-WR-CALNAME:DOCWA
X-ORIGINAL-URL:https://docwa.com.au
X-WR-CALDESC:Events for DOCWA
REFRESH-INTERVAL;VALUE=DURATION:PT1H
X-Robots-Tag:noindex
X-PUBLISHED-TTL:PT1H
BEGIN:VTIMEZONE
TZID:Asia/Shanghai
BEGIN:STANDARD
TZOFFSETFROM:+0800
TZOFFSETTO:+0800
TZNAME:CST
DTSTART:20200101T000000
END:STANDARD
END:VTIMEZONE
BEGIN:VEVENT
DTSTART;TZID=Asia/Shanghai:20210605T080000
DTEND;TZID=Asia/Shanghai:20210607T170000
DTSTAMP:20260422T033018
CREATED:20210112T084614Z
LAST-MODIFIED:20210414T013635Z
UID:1185-1622880000-1623085200@docwa.com.au
SUMMARY:Numduc Rally
DESCRIPTION:The time has come get ready folks!  Please follows the links below to find out more! \nEntrance Form \nInformation Sheet \nNumduc Rally Site Details \nNumduc Voting Forms
URL:https://docwa.com.au/event/numduc-rally/
LOCATION:Grunters farm\, Dowerin-Meckering Rd\, Dowerin\, WA\, 6461\, Australia
END:VEVENT
BEGIN:VEVENT
DTSTART;TZID=Asia/Shanghai:20210620T090000
DTEND;TZID=Asia/Shanghai:20210620T140000
DTSTAMP:20260422T033018
CREATED:20210517T120311Z
LAST-MODIFIED:20210619T083648Z
UID:1328-1624179600-1624197600@docwa.com.au
SUMMARY:Postponed Due to bad weather Club ride. The Presidential ride
DESCRIPTION:Sundays ride to Toads place is postponed\, the weather gods have screwed us again.\nIt will be back on the calendar ASAP.\n\n\nThe time has come for the Presidents Ride\, Dropping into Tom Toads place to check out he’s collection of 400 bikes then on to the Two Rocks  Pub for  Lunch\, 404 bikes welcome\, they can head back to Perth from Tom’s place.
URL:https://docwa.com.au/event/club-ride-the-presidential-ride/
LOCATION:BP Wild Bean in Ascot
END:VEVENT
END:VCALENDAR