BEGIN:VCALENDAR
VERSION:2.0
PRODID:-//DOCWA - ECPv6.15.20//NONSGML v1.0//EN
CALSCALE:GREGORIAN
METHOD:PUBLISH
X-ORIGINAL-URL:https://docwa.com.au
X-WR-CALDESC:Events for DOCWA
REFRESH-INTERVAL;VALUE=DURATION:PT1H
X-Robots-Tag:noindex
X-PUBLISHED-TTL:PT1H
BEGIN:VTIMEZONE
TZID:Asia/Shanghai
BEGIN:STANDARD
TZOFFSETFROM:+0800
TZOFFSETTO:+0800
TZNAME:CST
DTSTART:20200101T000000
END:STANDARD
END:VTIMEZONE
BEGIN:VEVENT
DTSTART;TZID=Asia/Shanghai:20210508T100000
DTEND;TZID=Asia/Shanghai:20210509T120000
DTSTAMP:20260422T045859
CREATED:20210317T084434Z
LAST-MODIFIED:20210317T092638Z
UID:1223-1620468000-1620561600@docwa.com.au
SUMMARY:Wood Chop Weekender
DESCRIPTION:
URL:https://docwa.com.au/event/wood-chop-weekender/
LOCATION:Grunters farm\, Dowerin-Meckering Rd\, Dowerin\, WA\, 6461\, Australia
END:VEVENT
BEGIN:VEVENT
DTSTART;TZID=Asia/Shanghai:20210514T190000
DTEND;TZID=Asia/Shanghai:20210514T210000
DTSTAMP:20260422T045859
CREATED:20210512T090029Z
LAST-MODIFIED:20210512T090029Z
UID:1322-1621018800-1621026000@docwa.com.au
SUMMARY:DOCWA General Meeting
DESCRIPTION:General meeting come along and get involved\, lots to chat about
URL:https://docwa.com.au/event/docwa-general-meeting/
LOCATION:Belmont Sport & Recreation Club\, 400 Abernethy Rd\, Cloverdale\, WA\, 6105\, Australia
END:VEVENT
BEGIN:VEVENT
DTSTART;TZID=Asia/Shanghai:20210523T083000
DTEND;TZID=Asia/Shanghai:20210523T110000
DTSTAMP:20260422T045859
CREATED:20210517T115109Z
LAST-MODIFIED:20210517T115117Z
UID:1326-1621758600-1621767600@docwa.com.au
SUMMARY:Breaky ride
DESCRIPTION:Breaky ride its John M 1st ride as Captain come along \, hoping for clear weather
URL:https://docwa.com.au/event/breaky-ride-6/
LOCATION:BP Wild Bean in Ascot
END:VEVENT
END:VCALENDAR