BEGIN:VCALENDAR
VERSION:2.0
PRODID:-//DOCWA - ECPv6.15.20//NONSGML v1.0//EN
CALSCALE:GREGORIAN
METHOD:PUBLISH
X-WR-CALNAME:DOCWA
X-ORIGINAL-URL:https://docwa.com.au
X-WR-CALDESC:Events for DOCWA
REFRESH-INTERVAL;VALUE=DURATION:PT1H
X-Robots-Tag:noindex
X-PUBLISHED-TTL:PT1H
BEGIN:VTIMEZONE
TZID:Asia/Shanghai
BEGIN:STANDARD
TZOFFSETFROM:+0800
TZOFFSETTO:+0800
TZNAME:CST
DTSTART:20200101T000000
END:STANDARD
END:VTIMEZONE
BEGIN:VEVENT
DTSTART;TZID=Asia/Shanghai:20210302T190000
DTEND;TZID=Asia/Shanghai:20210315T203000
DTSTAMP:20260422T075243
CREATED:20210217T083212Z
LAST-MODIFIED:20210217T084256Z
UID:1194-1614711600-1615840200@docwa.com.au
SUMMARY:Committee meeting
DESCRIPTION:Comm meeting at my Digs
URL:https://docwa.com.au/event/committee-meeting-7/
END:VEVENT
BEGIN:VEVENT
DTSTART;TZID=Asia/Shanghai:20210311T190000
DTEND;TZID=Asia/Shanghai:20210311T210000
DTSTAMP:20260422T075243
CREATED:20210217T084834Z
LAST-MODIFIED:20210217T084834Z
UID:1196-1615489200-1615496400@docwa.com.au
SUMMARY:DOCWA General Meeting for ALL Members\, come and catch up!!
DESCRIPTION:DOCWA General Meeting for ALL Members\, come and catch up!!
URL:https://docwa.com.au/event/docwa-general-meeting-for-all-members-come-and-catch-up/
LOCATION:Belmont Sport & Recreation Club\, 400 Abernethy Rd\, Cloverdale\, WA\, 6105\, Australia
END:VEVENT
BEGIN:VEVENT
DTSTART;TZID=Asia/Shanghai:20210314T083000
DTEND;TZID=Asia/Shanghai:20210314T140000
DTSTAMP:20260422T075243
CREATED:20201201T080535Z
LAST-MODIFIED:20201201T080545Z
UID:1169-1615710600-1615730400@docwa.com.au
SUMMARY:404 Club Ride
DESCRIPTION:404 club ride with Capt Dave  L
URL:https://docwa.com.au/event/404-club-ride/
LOCATION:Ampol Foodary\, Byford
END:VEVENT
BEGIN:VEVENT
DTSTART;TZID=Asia/Shanghai:20210320T173000
DTEND;TZID=Asia/Shanghai:20210320T203000
DTSTAMP:20260422T075243
CREATED:20210217T090018Z
LAST-MODIFIED:20210217T090018Z
UID:1201-1616261400-1616272200@docwa.com.au
SUMMARY:Night Ride - Cpt Craig. Meet BP Ascot @ 5.30pm. Depart 5.45pm
DESCRIPTION:Night ride East or West lets see.
URL:https://docwa.com.au/event/night-ride-cpt-craig-meet-bp-ascot-5-30pm-depart-5-45pm/
LOCATION:BP Wild Bean in Ascot
END:VEVENT
BEGIN:VEVENT
DTSTART;TZID=Asia/Shanghai:20210328T083000
DTEND;TZID=Asia/Shanghai:20210328T170000
DTSTAMP:20260422T075243
CREATED:20210217T090549Z
LAST-MODIFIED:20210217T090549Z
UID:1205-1616920200-1616950800@docwa.com.au
SUMMARY:Club Ride - Cpt Ted - Meet BP Ascot @ 8.30am - Depart 8.45am BP Ascot
DESCRIPTION:Club ride with Capt  Ted\, should be a ripper
URL:https://docwa.com.au/event/club-ride-cpt-ted-meet-bp-ascot-8-30am-depart-8-45am-bp-ascot/
LOCATION:BP Wild Bean in Ascot
END:VEVENT
END:VCALENDAR