BEGIN:VCALENDAR
VERSION:2.0
PRODID:-//DOCWA - ECPv6.15.20//NONSGML v1.0//EN
CALSCALE:GREGORIAN
METHOD:PUBLISH
X-WR-CALNAME:DOCWA
X-ORIGINAL-URL:https://docwa.com.au
X-WR-CALDESC:Events for DOCWA
REFRESH-INTERVAL;VALUE=DURATION:PT1H
X-Robots-Tag:noindex
X-PUBLISHED-TTL:PT1H
BEGIN:VTIMEZONE
TZID:Asia/Shanghai
BEGIN:STANDARD
TZOFFSETFROM:+0800
TZOFFSETTO:+0800
TZNAME:CST
DTSTART:20200101T000000
END:STANDARD
END:VTIMEZONE
BEGIN:VEVENT
DTSTART;TZID=Asia/Shanghai:20210207T080000
DTEND;TZID=Asia/Shanghai:20210207T130000
DTSTAMP:20260422T092807
CREATED:20201201T080045Z
LAST-MODIFIED:20210205T045150Z
UID:1165-1612684800-1612702800@docwa.com.au
SUMMARY:Memorial Ride\, The Ride is off
DESCRIPTION:Memorial Ride is off…… its the triple Bad weather\, Bush fires\, Covid with travel restrictions. pleases stay at home\n 
URL:https://docwa.com.au/event/memorial-ride/
LOCATION:BP Wild Bean in Ascot
END:VEVENT
BEGIN:VEVENT
DTSTART;TZID=Asia/Shanghai:20210209T190000
DTEND;TZID=Asia/Shanghai:20210209T210000
DTSTAMP:20260422T092807
CREATED:20210131T025656Z
LAST-MODIFIED:20210201T015455Z
UID:1188-1612897200-1612904400@docwa.com.au
SUMMARY:Committee Meeting
DESCRIPTION:Comm Meeting at Dave Lunns  Digs
URL:https://docwa.com.au/event/committee-meeting-6/
END:VEVENT
BEGIN:VEVENT
DTSTART;TZID=Asia/Shanghai:20210228T080000
DTEND;TZID=Asia/Shanghai:20210228T120000
DTSTAMP:20260422T092807
CREATED:20201201T080349Z
LAST-MODIFIED:20210224T120805Z
UID:1167-1614499200-1614513600@docwa.com.au
SUMMARY:Breaky Ride – Cpt Ted. Meet BP Ascot @ 8.00am. Depart 8.15am
DESCRIPTION:Comm Meeting at Dave Lunns  Digs
URL:https://docwa.com.au/event/club-ride-6/
LOCATION:BP Wild Bean in Ascot
END:VEVENT
END:VCALENDAR