BEGIN:VCALENDAR
VERSION:2.0
PRODID:-//DOCWA - ECPv6.15.20//NONSGML v1.0//EN
CALSCALE:GREGORIAN
METHOD:PUBLISH
X-WR-CALNAME:DOCWA
X-ORIGINAL-URL:https://docwa.com.au
X-WR-CALDESC:Events for DOCWA
REFRESH-INTERVAL;VALUE=DURATION:PT1H
X-Robots-Tag:noindex
X-PUBLISHED-TTL:PT1H
BEGIN:VTIMEZONE
TZID:Asia/Shanghai
BEGIN:STANDARD
TZOFFSETFROM:+0800
TZOFFSETTO:+0800
TZNAME:CST
DTSTART:20200101T000000
END:STANDARD
END:VTIMEZONE
BEGIN:VEVENT
DTSTART;TZID=Asia/Shanghai:20210102T170000
DTEND;TZID=Asia/Shanghai:20210102T220000
DTSTAMP:20260422T111106
CREATED:20210101T023208Z
LAST-MODIFIED:20210101T023208Z
UID:1175-1609606800-1609624800@docwa.com.au
SUMMARY:Speedway night
DESCRIPTION:Time for a bit of Speed way Action. Meeting at BP Ascot wild bean around 5pm\, bring some cash for the gate entry. Gunna be a great night
URL:https://docwa.com.au/event/speedway-night/
LOCATION:BP Wild Bean in Ascot
END:VEVENT
BEGIN:VEVENT
DTSTART;TZID=Asia/Shanghai:20210114T190000
DTEND;TZID=Asia/Shanghai:20210114T203000
DTSTAMP:20260422T111106
CREATED:20210105T220329Z
LAST-MODIFIED:20210105T220329Z
UID:1179-1610650800-1610656200@docwa.com.au
SUMMARY:General  Meeting new Venue
DESCRIPTION:General Meeting  at a New venue the  Perth City Street Machin Club @Unit 2/53 Kent street Cannington\, Great new place to meet they have a bar with all the facilities bike parking around the back in your view. Come along a support your Club.  https://www.pcsmc.com.au
URL:https://docwa.com.au/event/general-meeting-new-venue/
LOCATION:PCSMC\, unit 2 53 Kent st Cannington\, perth\, wa
END:VEVENT
BEGIN:VEVENT
DTSTART;TZID=Asia/Shanghai:20210116T180000
DTEND;TZID=Asia/Shanghai:20210116T210000
DTSTAMP:20260422T111106
CREATED:20201201T075543Z
LAST-MODIFIED:20201201T075543Z
UID:1161-1610820000-1610830800@docwa.com.au
SUMMARY:Night Ride
DESCRIPTION:Night ride down or up the west coast \, Ride Capt Craig
URL:https://docwa.com.au/event/night-ride-2/
LOCATION:BP Wild Bean in Ascot
END:VEVENT
BEGIN:VEVENT
DTSTART;TZID=Asia/Shanghai:20210123T100000
DTEND;TZID=Asia/Shanghai:20210125T170000
DTSTAMP:20260422T111106
CREATED:20201201T075801Z
LAST-MODIFIED:20210112T084059Z
UID:1163-1611396000-1611594000@docwa.com.au
SUMMARY:Aust Day weekend away in Bunbury updated
DESCRIPTION:Weekend away at Dee’s house near Bunbury going to be a big one\, come along. \nLeaving Sat morning now\, coming back Monday ( you need to take leave from work on the monday) or you can come back Sunday arvo. Bring a swag or bedding
URL:https://docwa.com.au/event/aust-day-weekend-away-in-bunbury/
LOCATION:Ampol Foodary\, Byford
END:VEVENT
END:VCALENDAR