BEGIN:VCALENDAR
VERSION:2.0
PRODID:-//DOCWA - ECPv6.15.20//NONSGML v1.0//EN
CALSCALE:GREGORIAN
METHOD:PUBLISH
X-WR-CALNAME:DOCWA
X-ORIGINAL-URL:https://docwa.com.au
X-WR-CALDESC:Events for DOCWA
REFRESH-INTERVAL;VALUE=DURATION:PT1H
X-Robots-Tag:noindex
X-PUBLISHED-TTL:PT1H
BEGIN:VTIMEZONE
TZID:Asia/Shanghai
BEGIN:STANDARD
TZOFFSETFROM:+0800
TZOFFSETTO:+0800
TZNAME:CST
DTSTART:20190101T000000
END:STANDARD
END:VTIMEZONE
BEGIN:VEVENT
DTSTART;TZID=Asia/Shanghai:20201031T080000
DTEND;TZID=Asia/Shanghai:20201101T170000
DTSTAMP:20260422T140856
CREATED:20200917T093308Z
LAST-MODIFIED:20201007T120624Z
UID:1099-1604131200-1604250000@docwa.com.au
SUMMARY:Albany hill climb weekend away. Entrants for the Event is now full
DESCRIPTION:Albany hill climb weekend . more info to comeTHE format for our premier Club event will be basically the same as last year. The Sunday Hill\nClimb location is starting at Flinders Parade\, Middleton Beach. The run lasts for 1.1km up Marine\nDrive. We are lucky enough to be again using the facilities of the Albany Rifle Club\, (just past the turn-off\nto the Wind-Farm\, Frenchmans Bay Road) for the weekend.\nIt has a clean kitchen\, hot showers and toilets facilities available. Camping is available at the Rifle Club\nfor $10.00 PER HEAD PER NIGHT – no need to book\, but you need to pay with a smile on your face\,\nSOMEONE WILL COLLECT YOUR MONEY. There is also a bar on-site.\nMotorcycle Display on the Saturday morning\nStirling Terrace will be closed for non motorcycle traffic as a safety precaution and as usual the line-up of\nbikes should be most interesting. There will also be 2020 Hill Climb metal badges available on the day of the\nhillclimb.\nSaturday Afternoon Rally (Raffle)\nThis will be in the form of a raffle. Entries will only be taken on Stirling Terrace\, Saturday\nmorning. There will be no prior entries. The rally is suitable for all motorcycles\, no matter what size\nor age. Entries will close at 11.45 am and the briefing will take place in Stirling Terrace shortly afterwards.\nThe first bike will be away at the end of the briefing. Entry for the rally is $20 per person.\nFirst prize is $550 cash plus second and third prizes.\nThe rally is open to any person with a road licensed motorcycle and a current license to ride.\nPillions may also enter. The cost is also $20.\nThis year the rally will finish at the Albany Rifle Club with afternoon tea again donated by Dylan’s on the Terrace.\nThanks Morris and Gwen.\nHelp is always needed early on Saturday morning to secure and set up Stirling Terrace\, so come along from 6 am.\nPrizes will be presented at the Trophy presentation after the Hillclimb on Sunday\nSaturday evening\nThis year’s meal will not be catered for. Bring your own BBQ packs.\nSunday Hillclimb\nThis Hillclimb is open to club members and members of other kindred clubs with a motorcycle license\,\nR-E and R for larger capacities and this should be carried with you. Helmets are compulsory and good\nmotorcycle protective clothing as well as boots and gloves should be worn.\nAll motorcycles have to be in roadworthy condition\, any motorcycle deemed to be unsafe will be disqualified
URL:https://docwa.com.au/event/albany-hill-climb-weekend-away/
END:VEVENT
BEGIN:VEVENT
DTSTART;TZID=Asia/Shanghai:20201101T080000
DTEND;TZID=Asia/Shanghai:20201101T170000
DTSTAMP:20260422T140856
CREATED:20200917T092346Z
LAST-MODIFIED:20201112T162041Z
UID:1094-1604217600-1604250000@docwa.com.au
SUMMARY:BELLA ITALIA- ROTARY ALL ITALIAN CAR DAY 2020 - cancelled and moved to 15 November
DESCRIPTION:BELLA ITALIA- ROTARY ALL ITALIAN CAR DAY 2020\n\n\n\nThe new Bella Italia festival \nHi DOCWA members \nFlush from our Ovest success we have another opportunity to display our bikes! \nThe Bella Italia event\, hosted by the Rotary Club of Northbridge\, is an annual charity event that DOCWA has been fortunate to be part of for many years. \nThis year the event returns to Mulberry Estate in Caversham. Follow this link for more details https://www.swanvalley.com.au/Business-Directory/Mulberry-Estate/Bella-Italia-at-Mulberry-Estate \nIf you have taken part in this event before you realise how sweet a deal it is. \nFor a start\, as a displayer your entry is free. \nNext – you get to see up close a dizzying array of Italian automotive finery including some rare old machines and even rarer new ones! \nNow to make the deal even sweeter\, if you choose to come out and display with the club we will throw in a free breakfast! \nInterested? Here are the details: \n  \nAddress: \nMulberry Estate \n34 Hamersley Road Caversham 6055 \nTimes. \nDisplay vehicles can enter between 8-9am.  The event starts at 9.30am and closes at 3pm \nA few of us will leave from the BP servo in Ascot at 7.45am and travel out to Caversham as a group. It’d be great to arrive on mass! \nSo feel free to join us if you want or make your own way there if that’s easier. \nWhile a few of us will stick around for the whole event\, you are NOT required to stay all day. Even if you can make it for a couple of hours that would be really appreciated. \nWhat matter the most is the club is present and our efforts to support this really worthy charitable cause are acknowledged. \nHow to register. You need to download a display ticket to get free access to the event. \nPlease follow this link to register and obtain your pass. https://www.trybooking.com/events/landing?eid=669217& Follow the prompts to get your free ticket (and make sure you bring it on the day). \nBreakfast. We are planning to get our snouts into the Mulberry Estate buffet breakfast around 8.30am. If you want a free ticket for this culinary largesse please email David Lunn (vicepresident@docwa.com.au) and he will arrange if for you and hand it to you on the day. \nFinally – all Ducati’s are welcome. This is not just for old bikes. And it doesn’t matter if your ride is wearing that ‘lived in’ patina either!  Just come along and enjoy the venue\, the great array of vehicles to ogle and share a few tall tales with your fellow club members. \nHope to see you there!
URL:https://docwa.com.au/event/rotary-all-italian-car-and-bike-show/
END:VEVENT
BEGIN:VEVENT
DTSTART;TZID=Asia/Shanghai:20201108T081500
DTEND;TZID=Asia/Shanghai:20201108T120000
DTSTAMP:20260422T140856
CREATED:20201101T092119Z
LAST-MODIFIED:20201101T092119Z
UID:1126-1604823300-1604836800@docwa.com.au
SUMMARY:Breakfast Ride
DESCRIPTION:Let’s ride! Arrive at 0815 for 0830 depart. Breakfast at the Vintage Dining Room in Toodyay run by Lynda from Kiss Catering who looks after us at Numduc.\n\n 
URL:https://docwa.com.au/event/breakfast-ride/
LOCATION:BP Wild Bean in Ascot
END:VEVENT
BEGIN:VEVENT
DTSTART;TZID=Asia/Shanghai:20201112T190000
DTEND;TZID=Asia/Shanghai:20201112T210000
DTSTAMP:20260422T140856
CREATED:20201023T072846Z
LAST-MODIFIED:20201023T072904Z
UID:1121-1605207600-1605214800@docwa.com.au
SUMMARY:Committee Meeting
DESCRIPTION:Committee Meeting at Roch’s digs
URL:https://docwa.com.au/event/committee-meeting-5/
END:VEVENT
BEGIN:VEVENT
DTSTART;TZID=Asia/Shanghai:20201114T000000
DTEND;TZID=Asia/Shanghai:20201114T000000
DTSTAMP:20260422T140856
CREATED:20200917T093601Z
LAST-MODIFIED:20201113T113918Z
UID:1101-1605312000-1605312000@docwa.com.au
SUMMARY:Sun downer ride is POSTPONED
DESCRIPTION:Classic sun downer ride on the west coast \nSun set ride in the rain\, nope it is postponed to January
URL:https://docwa.com.au/event/sun-downer-ride/
LOCATION:BP Wild Bean in Ascot
END:VEVENT
BEGIN:VEVENT
DTSTART;TZID=Asia/Shanghai:20201115T074500
DTEND;TZID=Asia/Shanghai:20201115T150000
DTSTAMP:20260422T140856
CREATED:20201102T114955Z
LAST-MODIFIED:20201112T162129Z
UID:1139-1605426300-1605452400@docwa.com.au
SUMMARY:Bella Italia - new date
DESCRIPTION:This event was rescheduled from 1 Nov. \nMembers – please look out for a reminder email with booking details. \nWe will be departing BP\, Ascot at 0745 to ride out to Mulberry Estate.
URL:https://docwa.com.au/event/bella-italia-display-is-still-on/
LOCATION:Mulberry Estate\, Caversham
END:VEVENT
BEGIN:VEVENT
DTSTART;TZID=Asia/Shanghai:20201128T180000
DTEND;TZID=Asia/Shanghai:20201128T230000
DTSTAMP:20260422T140856
CREATED:20201102T112844Z
LAST-MODIFIED:20201102T112953Z
UID:1130-1606586400-1606604400@docwa.com.au
SUMMARY:Docwa Christmas Party
DESCRIPTION:
URL:https://docwa.com.au/event/1130/
END:VEVENT
END:VCALENDAR