BEGIN:VCALENDAR
VERSION:2.0
PRODID:-//DOCWA - ECPv6.15.20//NONSGML v1.0//EN
CALSCALE:GREGORIAN
METHOD:PUBLISH
X-ORIGINAL-URL:https://docwa.com.au
X-WR-CALDESC:Events for DOCWA
REFRESH-INTERVAL;VALUE=DURATION:PT1H
X-Robots-Tag:noindex
X-PUBLISHED-TTL:PT1H
BEGIN:VTIMEZONE
TZID:Asia/Shanghai
BEGIN:STANDARD
TZOFFSETFROM:+0800
TZOFFSETTO:+0800
TZNAME:CST
DTSTART:20190101T000000
END:STANDARD
END:VTIMEZONE
BEGIN:VEVENT
DTSTART;TZID=Asia/Shanghai:20200109T190000
DTEND;TZID=Asia/Shanghai:20200109T210000
DTSTAMP:20260423T054741
CREATED:20191205T145255Z
LAST-MODIFIED:20191205T145351Z
UID:891-1578596400-1578603600@docwa.com.au
SUMMARY:Committee Meeting
DESCRIPTION:First committee meeting for the New Year. Lots to discuss and plan!
URL:https://docwa.com.au/event/committee-meeting/
END:VEVENT
BEGIN:VEVENT
DTSTART;TZID=Asia/Shanghai:20200112T080000
DTEND;TZID=Asia/Shanghai:20200112T130000
DTSTAMP:20260423T054741
CREATED:20191106T091440Z
LAST-MODIFIED:20191226T044332Z
UID:730-1578816000-1578834000@docwa.com.au
SUMMARY:Breaky ride
DESCRIPTION:Braking for Bacon Breaky ride\nMeet at BP Wild Bean Cafe BELMONT\nArrive 8.15am for an 8.30am Departure.\nCaptain: CHRISPY PEARCE
URL:https://docwa.com.au/event/breaky-ride-4/
LOCATION:BP Wild Bean in Ascot
END:VEVENT
BEGIN:VEVENT
DTSTART;TZID=Asia/Shanghai:20200119T080000
DTEND;TZID=Asia/Shanghai:20200119T150000
DTSTAMP:20260423T054741
CREATED:20191226T045120Z
LAST-MODIFIED:20191228T074620Z
UID:908-1579420800-1579446000@docwa.com.au
SUMMARY:Club ride with Ted
DESCRIPTION:
URL:https://docwa.com.au/event/club-ride-with-frank/
LOCATION:BP Wild Bean in Ascot
END:VEVENT
END:VCALENDAR