BEGIN:VCALENDAR
VERSION:2.0
PRODID:-//DOCWA - ECPv6.15.20//NONSGML v1.0//EN
CALSCALE:GREGORIAN
METHOD:PUBLISH
X-ORIGINAL-URL:https://docwa.com.au
X-WR-CALDESC:Events for DOCWA
REFRESH-INTERVAL;VALUE=DURATION:PT1H
X-Robots-Tag:noindex
X-PUBLISHED-TTL:PT1H
BEGIN:VTIMEZONE
TZID:Asia/Shanghai
BEGIN:STANDARD
TZOFFSETFROM:+0800
TZOFFSETTO:+0800
TZNAME:CST
DTSTART:20180101T000000
END:STANDARD
END:VTIMEZONE
BEGIN:VEVENT
DTSTART;TZID=Asia/Shanghai:20191201T073000
DTEND;TZID=Asia/Shanghai:20191201T123000
DTSTAMP:20260423T065659
CREATED:20191020T102236Z
LAST-MODIFIED:20191124T070954Z
UID:692-1575185400-1575203400@docwa.com.au
SUMMARY:Perth Bikers Charity Ride
DESCRIPTION:Meeting at Wild Bean Ascott at 745 am. \nMembers need time to buy toys or food hampers. \nI would mention that the ride is not Police escorted these days and is well organised and is a fantastic static display of 3000 bikes. \n  \nThe Perth Bikers’ Charity Ride in aid of the Salvation Army Christmas Appeal is the oldest and longest running event of its kind in Australia. The event was first held in 1975\, which is 3 years before any other state or territory in Australia. \nParticipants need to be at Optus Stadium WELL BEFORE 8.30 am on Sunday 1 December 2019 to ensure they can be ready for the 8.45 am departure and ride in the procession. \nThe Scouts will once again be selling breakfast\, hot beverages and cool drinks. The band providing great entertainment at the start point this year is VYNYL REVIVAL. So come along on your bikes with your donations\, catch up with friends and have a fantastic morning again this year. \nWe look forward to seeing you all on the day. \nCheers\, Bandit…
URL:https://docwa.com.au/event/perth-bikers-charity-ride/
END:VEVENT
BEGIN:VEVENT
DTSTART;TZID=Asia/Shanghai:20191207T150000
DTEND;TZID=Asia/Shanghai:20191207T233000
DTSTAMP:20260423T065659
CREATED:20191020T103321Z
LAST-MODIFIED:20191205T153020Z
UID:694-1575730800-1575761400@docwa.com.au
SUMMARY:DOCWA Xmas Party
DESCRIPTION:DOCWA’s Social Event of the Year!!\nSome drinks and food will be supplied by the club. The MUZZA AWARD will be handed on to the next deserving winner and loads of tall tales will be shared!\nBring your togs if your keen for a dip in the pool. Kids are welcome.\nIf you require the address please get in touch with one of your awesome committee members asap. 🙂\nSee you all there! The Xmas party is for all DOCWA members present & past and long time fiends of the club are welcome.
URL:https://docwa.com.au/event/docwa-xmas-party/
LOCATION:Macca’s house\, Keymer St Belmont
END:VEVENT
BEGIN:VEVENT
DTSTART;TZID=Asia/Shanghai:20191215T080000
DTEND;TZID=Asia/Shanghai:20191215T120000
DTSTAMP:20260423T065659
CREATED:20191106T083511Z
LAST-MODIFIED:20191106T083511Z
UID:727-1576396800-1576411200@docwa.com.au
SUMMARY:Breaky Ride
DESCRIPTION:BREAKFAST RIDE\nDeparting BP Wild Bean Cafe Ascot.\nArrive 8.15am for an 8.30am Departure.\nCaptain: FRANK FORKIN
URL:https://docwa.com.au/event/breaky-ride-3/
LOCATION:BP Wild Bean in Ascot
END:VEVENT
END:VCALENDAR