BEGIN:VCALENDAR
VERSION:2.0
PRODID:-//DOCWA - ECPv6.15.20//NONSGML v1.0//EN
CALSCALE:GREGORIAN
METHOD:PUBLISH
X-ORIGINAL-URL:https://docwa.com.au
X-WR-CALDESC:Events for DOCWA
REFRESH-INTERVAL;VALUE=DURATION:PT1H
X-Robots-Tag:noindex
X-PUBLISHED-TTL:PT1H
BEGIN:VTIMEZONE
TZID:Asia/Shanghai
BEGIN:STANDARD
TZOFFSETFROM:+0800
TZOFFSETTO:+0800
TZNAME:CST
DTSTART:20230101T000000
END:STANDARD
END:VTIMEZONE
BEGIN:VEVENT
DTSTART;TZID=Asia/Shanghai:20241214T180000
DTEND;TZID=Asia/Shanghai:20241214T233000
DTSTAMP:20260420T140200
CREATED:20241017T123455Z
LAST-MODIFIED:20241017T123455Z
UID:2152-1734199200-1734219000@docwa.com.au
SUMMARY:DOCWA Christmas Party
DESCRIPTION:DOCWA Xmas Party\nBack at the Bassendean Hotel this year.\nAlways a great night
URL:https://docwa.com.au/event/docwa-christmas-party/
LOCATION:Bassendean Hotel\, Australia
END:VEVENT
END:VCALENDAR