BEGIN:VCALENDAR
VERSION:2.0
PRODID:-//DOCWA - ECPv6.15.20//NONSGML v1.0//EN
CALSCALE:GREGORIAN
METHOD:PUBLISH
X-ORIGINAL-URL:https://docwa.com.au
X-WR-CALDESC:Events for DOCWA
REFRESH-INTERVAL;VALUE=DURATION:PT1H
X-Robots-Tag:noindex
X-PUBLISHED-TTL:PT1H
BEGIN:VTIMEZONE
TZID:Asia/Shanghai
BEGIN:STANDARD
TZOFFSETFROM:+0800
TZOFFSETTO:+0800
TZNAME:CST
DTSTART:20230101T000000
END:STANDARD
END:VTIMEZONE
BEGIN:VEVENT
DTSTART;TZID=Asia/Shanghai:20241124T060000
DTEND;TZID=Asia/Shanghai:20241124T163000
DTSTAMP:20260420T123452
CREATED:20240517T065223Z
LAST-MODIFIED:20240517T065223Z
UID:2066-1732428000-1732465800@docwa.com.au
SUMMARY:Track Day/Training Day - Carco Raceway
DESCRIPTION:Look out for details later in the year. This event always books out and is an excellent opportunity to improve your skills and really see what your bike can do in a safe and legal setting. \n 
URL:https://docwa.com.au/event/track-day-training-day-carco-raceway/
LOCATION:Motormall Wanneroo Raceway\, Wattle Ave. E\, Neerabup\, WA\, 6031\, Australia
END:VEVENT
END:VCALENDAR