BEGIN:VCALENDAR
VERSION:2.0
PRODID:-//DOCWA - ECPv6.15.20//NONSGML v1.0//EN
CALSCALE:GREGORIAN
METHOD:PUBLISH
X-WR-CALNAME:DOCWA
X-ORIGINAL-URL:https://docwa.com.au
X-WR-CALDESC:Events for DOCWA
REFRESH-INTERVAL;VALUE=DURATION:PT1H
X-Robots-Tag:noindex
X-PUBLISHED-TTL:PT1H
BEGIN:VTIMEZONE
TZID:Asia/Shanghai
BEGIN:STANDARD
TZOFFSETFROM:+0800
TZOFFSETTO:+0800
TZNAME:CST
DTSTART:20230101T000000
END:STANDARD
END:VTIMEZONE
BEGIN:VEVENT
DTSTART;TZID=Asia/Shanghai:20241116T171500
DTEND;TZID=Asia/Shanghai:20241116T200000
DTSTAMP:20260420T105518
CREATED:20241017T121719Z
LAST-MODIFIED:20241115T033104Z
UID:2140-1731777300-1731787200@docwa.com.au
SUMMARY:POSTPONED/CANCELLED Saturday evening Club Ride
DESCRIPTION:DETAILS UPDATED: RIDE POSTPONED –\nCHECK BACK FOR NEW DATE IN DUE COURSE.
URL:https://docwa.com.au/event/saturday-evening-club-ride/
END:VEVENT
END:VCALENDAR