BEGIN:VCALENDAR
VERSION:2.0
PRODID:-//DOCWA - ECPv6.15.20//NONSGML v1.0//EN
CALSCALE:GREGORIAN
METHOD:PUBLISH
X-ORIGINAL-URL:https://docwa.com.au
X-WR-CALDESC:Events for DOCWA
REFRESH-INTERVAL;VALUE=DURATION:PT1H
X-Robots-Tag:noindex
X-PUBLISHED-TTL:PT1H
BEGIN:VTIMEZONE
TZID:Asia/Shanghai
BEGIN:STANDARD
TZOFFSETFROM:+0800
TZOFFSETTO:+0800
TZNAME:CST
DTSTART:20230101T000000
END:STANDARD
END:VTIMEZONE
BEGIN:VEVENT
DTSTART;TZID=Asia/Shanghai:20241101T080000
DTEND;TZID=Asia/Shanghai:20241103T140000
DTSTAMP:20260420T092739
CREATED:20241017T122238Z
LAST-MODIFIED:20241018T074336Z
UID:2145-1730448000-1730642400@docwa.com.au
SUMMARY:Albany Vintage and Classic Motorcycle Hillclimb weekend
DESCRIPTION:Friday 1 November ride to Albany for the Hillclimb weekend. See event details below.\nNote the starting point – Ampol Foodary\, Byford. 8am arrive for 8.15am departure. This is a whole day ride\, covering 550-600km with stops for coffee and lunch on the way.  Definitely NOT the direct route to Albany!\n——————————–\nThe Albany Vintage & Classic Motorcycle Club (AVCMC) present once again the 2024 Vintage and Classic Motorcycle Hillclimb weekend from the 2nd – 3rd of November.\nSATURDAY 2ND NOVEMBER: Motorcycle Display – located at Stirling Terrace from 7:00am-2:00pm (DISPLAY OPEN TO ALL MOTORCYCLES) so bring along your motorcycle or come along to admire the bikes that will be on display. Coffee\, food and live entertainment as well as incredible motorcycles ranging from the 1900’s to present day.\nSUNDAY 3RD NOVEMBER: Vintage Motorcycle Hillclimb – A time trail motorcycle hillclimb located at down at Middleton Beach at the start of Marine Drive from 7:00am – 4:30pm. Open only to vintage motorcycle club members and limited to 100 rides. Public are welcome as spectators for the hillclimb.\nA huge weekend for all motorcycle and motoring enthusiasts. Please invite your friends who would be interested and share our event to make the 2024 Hillclimb Weekend the biggest in our clubs history.
URL:https://docwa.com.au/event/albany-vintage-and-classic-motorcycle-hillclimb-weekend/
LOCATION:Ampol Foodary\, Byford
END:VEVENT
BEGIN:VEVENT
DTSTART;TZID=Asia/Shanghai:20241103T090000
DTEND;TZID=Asia/Shanghai:20241103T140000
DTSTAMP:20260420T092739
CREATED:20241017T121948Z
LAST-MODIFIED:20241017T121948Z
UID:2143-1730624400-1730642400@docwa.com.au
SUMMARY:Italian Car (and Bike) Day
DESCRIPTION:Exhibitors in from 9am.\nFeel free to make your own way there (we are displaying in the same spot as last year).\nOR.. join a club group ride to the event departing BP Ascot (cnr Resolution Drive and GE Highway) leaving at 9am on the dot. (it only takes about 15 mins to get the venue).\nDOCWA will arrange the free exhibitor entry tickets and provide a $20 food and beverage subsidy for financial members that attend.\nRemember this is a charitable event (run by Rotary Northbridge). All bikes\, in any condition are welcome. Hope to see you.
URL:https://docwa.com.au/event/italian-car-and-bike-day/
LOCATION:BP Wild Bean in Ascot
ORGANIZER;CN="Dave Alberghini":MAILTO:ride_captains@docwa.com.au
END:VEVENT
END:VCALENDAR