BEGIN:VCALENDAR
VERSION:2.0
PRODID:-//DOCWA - ECPv6.15.20//NONSGML v1.0//EN
CALSCALE:GREGORIAN
METHOD:PUBLISH
X-WR-CALNAME:DOCWA
X-ORIGINAL-URL:https://docwa.com.au
X-WR-CALDESC:Events for DOCWA
REFRESH-INTERVAL;VALUE=DURATION:PT1H
X-Robots-Tag:noindex
X-PUBLISHED-TTL:PT1H
BEGIN:VTIMEZONE
TZID:Asia/Shanghai
BEGIN:STANDARD
TZOFFSETFROM:+0800
TZOFFSETTO:+0800
TZNAME:CST
DTSTART:20230101T000000
END:STANDARD
END:VTIMEZONE
BEGIN:VEVENT
DTSTART;TZID=Asia/Shanghai:20240922T085000
DTEND;TZID=Asia/Shanghai:20240922T133000
DTSTAMP:20260420T074909
CREATED:20240717T130137Z
LAST-MODIFIED:20240913T024754Z
UID:2088-1726995000-1727011800@docwa.com.au
SUMMARY:Club Ride Sunday 22/9
DESCRIPTION:Club ride.\nStands up 9.00 am sharp\nRide captain John Merc.
URL:https://docwa.com.au/event/club-ride-sunday-22-9/
LOCATION:BP Wild Bean in Ascot
END:VEVENT
END:VCALENDAR