BEGIN:VCALENDAR
VERSION:2.0
PRODID:-//DOCWA - ECPv6.15.20//NONSGML v1.0//EN
CALSCALE:GREGORIAN
METHOD:PUBLISH
X-ORIGINAL-URL:https://docwa.com.au
X-WR-CALDESC:Events for DOCWA
REFRESH-INTERVAL;VALUE=DURATION:PT1H
X-Robots-Tag:noindex
X-PUBLISHED-TTL:PT1H
BEGIN:VTIMEZONE
TZID:Asia/Shanghai
BEGIN:STANDARD
TZOFFSETFROM:+0800
TZOFFSETTO:+0800
TZNAME:CST
DTSTART:20230101T000000
END:STANDARD
END:VTIMEZONE
BEGIN:VEVENT
DTSTART;TZID=Asia/Shanghai:20240908T100000
DTEND;TZID=Asia/Shanghai:20240908T150000
DTSTAMP:20260420T074953
CREATED:20240216T025544Z
LAST-MODIFIED:20240322T105941Z
UID:2024-1725789600-1725807600@docwa.com.au
SUMMARY:2024 Perth Classic Car Show
DESCRIPTION:Note the later time of the year for 2024 \nThe 2024 Perth Classic Car Show – presented by the Council of Motoring Clubs WA and long time sponsor Shannons. \nThis is Perth’s premier classic motoring event – involving more than 100 clubs and usually attracting around 800 vehicles. \nDOCWA is proud to be amongst the very few motorcycle clubs able to display. Good news is that this event is definitely NOT restricted to displaying historic bikes. In fact the more the merrier. The crowds love to see Ducatis across the decades lined up. \nMore details will be shared closer to the event. Stay tuned..
URL:https://docwa.com.au/event/2024-perth-classic-car-show/
LOCATION:Ascot Racecourse
ORGANIZER;CN="Rochelle Burley":MAILTO:events@docwa.com.au
END:VEVENT
END:VCALENDAR