BEGIN:VCALENDAR
VERSION:2.0
PRODID:-//DOCWA - ECPv6.15.20//NONSGML v1.0//EN
CALSCALE:GREGORIAN
METHOD:PUBLISH
X-WR-CALNAME:DOCWA
X-ORIGINAL-URL:https://docwa.com.au
X-WR-CALDESC:Events for DOCWA
REFRESH-INTERVAL;VALUE=DURATION:PT1H
X-Robots-Tag:noindex
X-PUBLISHED-TTL:PT1H
BEGIN:VTIMEZONE
TZID:Asia/Shanghai
BEGIN:STANDARD
TZOFFSETFROM:+0800
TZOFFSETTO:+0800
TZNAME:CST
DTSTART:20230101T000000
END:STANDARD
END:VTIMEZONE
BEGIN:VEVENT
DTSTART;TZID=Asia/Shanghai:20240609T083000
DTEND;TZID=Asia/Shanghai:20240609T140000
DTSTAMP:20260420T025734
CREATED:20240517T070012Z
LAST-MODIFIED:20240608T062525Z
UID:2072-1717921800-1717941600@docwa.com.au
SUMMARY:Club Ride
DESCRIPTION:RIDE CANCELLED DUE TO POOR WEATHER.\nLOOK OUT FOR THE NEXT ONE
URL:https://docwa.com.au/event/club-ride-16/
LOCATION:TBA\, Australia
END:VEVENT
END:VCALENDAR