BEGIN:VCALENDAR
VERSION:2.0
PRODID:-//DOCWA - ECPv6.15.20//NONSGML v1.0//EN
CALSCALE:GREGORIAN
METHOD:PUBLISH
X-WR-CALNAME:DOCWA
X-ORIGINAL-URL:https://docwa.com.au
X-WR-CALDESC:Events for DOCWA
REFRESH-INTERVAL;VALUE=DURATION:PT1H
X-Robots-Tag:noindex
X-PUBLISHED-TTL:PT1H
BEGIN:VTIMEZONE
TZID:Asia/Shanghai
BEGIN:STANDARD
TZOFFSETFROM:+0800
TZOFFSETTO:+0800
TZNAME:CST
DTSTART:20230101T000000
END:STANDARD
END:VTIMEZONE
BEGIN:VEVENT
DTSTART;TZID=Asia/Shanghai:20240407T060000
DTEND;TZID=Asia/Shanghai:20240407T193000
DTSTAMP:20260419T235206
CREATED:20240216T025201Z
LAST-MODIFIED:20240216T025201Z
UID:2020-1712469600-1712518200@docwa.com.au
SUMMARY:Ride to the Ducati Day WA 24
DESCRIPTION:This is the usual ride from Bayswater to Carco Raceway Wanneroo for the fabulous Ducati Day track day. \nPlease take note of the early start time. Leaving the servo at 6.20am sharp \nRide Capt. TBA
URL:https://docwa.com.au/event/ride-to-the-ducati-day-wa-24/
LOCATION:Caltex Bayswater on Guildford rd\, 502 Guildford Road\, Bayswater\, WA\, 6053\, Australia
END:VEVENT
BEGIN:VEVENT
DTSTART;TZID=Asia/Shanghai:20240407T081500
DTEND;TZID=Asia/Shanghai:20240407T110000
DTSTAMP:20260419T235206
CREATED:20240323T131713Z
LAST-MODIFIED:20240323T131713Z
UID:2050-1712477700-1712487600@docwa.com.au
SUMMARY:Ride to the York Motorcycle Festival
DESCRIPTION:Arrive Midvale Ampol foodary 8.15 depart 8.30. Ride Captain Chrispy \n 
URL:https://docwa.com.au/event/ride-to-the-york-motorcycle-festival/
LOCATION:Ampol Foodary Midvale\, Great Eastern Highway\, 375 Great Eastern Hwy\, Midvale\, WA\, Australia
ORGANIZER;CN="Chrispy":MAILTO:404Registrar@docwa.com.au
END:VEVENT
END:VCALENDAR