BEGIN:VCALENDAR
VERSION:2.0
PRODID:-//DOCWA - ECPv6.15.20//NONSGML v1.0//EN
CALSCALE:GREGORIAN
METHOD:PUBLISH
X-WR-CALNAME:DOCWA
X-ORIGINAL-URL:https://docwa.com.au
X-WR-CALDESC:Events for DOCWA
REFRESH-INTERVAL;VALUE=DURATION:PT1H
X-Robots-Tag:noindex
X-PUBLISHED-TTL:PT1H
BEGIN:VTIMEZONE
TZID:Asia/Shanghai
BEGIN:STANDARD
TZOFFSETFROM:+0800
TZOFFSETTO:+0800
TZNAME:CST
DTSTART:20230101T000000
END:STANDARD
END:VTIMEZONE
BEGIN:VEVENT
DTSTART;TZID=Asia/Shanghai:20240309T110000
DTEND;TZID=Asia/Shanghai:20240310T170000
DTSTAMP:20260419T222704
CREATED:20240216T024258Z
LAST-MODIFIED:20240216T024258Z
UID:2012-1709982000-1710090000@docwa.com.au
SUMMARY:Ride to/from Bunbury Indian Harley Club Annual Rally
DESCRIPTION:DOCWA members regularly attend this massive 2 day event – which includes hundreds of amazing old bikes riding around the SW.\n\nWe have decided to make riding to and from the rally a club event – for those participating or observing.\n\nCheck out the Indian Harley website for more details https://ihc.wildapricot.org/
URL:https://docwa.com.au/event/ride-to-from-bunbury-indian-harley-club-annual-rally-2/
ORGANIZER;CN="Chrispy":MAILTO:404Registrar@docwa.com.au
END:VEVENT
BEGIN:VEVENT
DTSTART;TZID=Asia/Shanghai:20240310T081500
DTEND;TZID=Asia/Shanghai:20240310T120000
DTSTAMP:20260419T222704
CREATED:20240216T024612Z
LAST-MODIFIED:20240305T032233Z
UID:2014-1710058500-1710072000@docwa.com.au
SUMMARY:Breakfast Ride
DESCRIPTION:Start at Ampol Murdoch on South Street.\nStands up 8.30am.\nRide to Serpentine cafe for breakfast.\nWeather looks perfect at this stage!\nRide Captain Dave Alberghini.\n\n 
URL:https://docwa.com.au/event/breakfast-ride-5/
LOCATION:Ampol Foodary Murdoch\, Cnr South St &\, Robson Way\, Murdoch\, WA\, 6150\, Australia
ORGANIZER;CN="Dave Alberghini":MAILTO:ride_captains@docwa.com.au
END:VEVENT
END:VCALENDAR