BEGIN:VCALENDAR
VERSION:2.0
PRODID:-//DOCWA - ECPv6.15.20//NONSGML v1.0//EN
CALSCALE:GREGORIAN
METHOD:PUBLISH
X-ORIGINAL-URL:https://docwa.com.au
X-WR-CALDESC:Events for DOCWA
REFRESH-INTERVAL;VALUE=DURATION:PT1H
X-Robots-Tag:noindex
X-PUBLISHED-TTL:PT1H
BEGIN:VTIMEZONE
TZID:Asia/Shanghai
BEGIN:STANDARD
TZOFFSETFROM:+0800
TZOFFSETTO:+0800
TZNAME:CST
DTSTART:20230101T000000
END:STANDARD
END:VTIMEZONE
BEGIN:VEVENT
DTSTART;TZID=Asia/Shanghai:20240119T180000
DTEND;TZID=Asia/Shanghai:20240119T210000
DTSTAMP:20260419T222701
CREATED:20231201T054214Z
LAST-MODIFIED:20240115T065815Z
UID:1982-1705687200-1705698000@docwa.com.au
SUMMARY:Evening Ride
DESCRIPTION:UPDATE!  Ride Captain Dave A has devised a leisurely evening ride along the coast finishing at the Mullaloo Beach Hotel. This is a perfect 2 up ride and a great way to catch up with fellow club members over a meal.  Note the 6pm arrival time for a 6.15pm depart from the Ascot BP – cnr Resolution Drive and Great Eastern Highway.
URL:https://docwa.com.au/event/evening-ride-2/
LOCATION:BP Wild Bean in Ascot
ORGANIZER;CN="Dave Alberghini":MAILTO:ride_captains@docwa.com.au
END:VEVENT
END:VCALENDAR