BEGIN:VCALENDAR
VERSION:2.0
PRODID:-//DOCWA - ECPv6.15.20//NONSGML v1.0//EN
CALSCALE:GREGORIAN
METHOD:PUBLISH
X-WR-CALNAME:DOCWA
X-ORIGINAL-URL:https://docwa.com.au
X-WR-CALDESC:Events for DOCWA
REFRESH-INTERVAL;VALUE=DURATION:PT1H
X-Robots-Tag:noindex
X-PUBLISHED-TTL:PT1H
BEGIN:VTIMEZONE
TZID:Asia/Shanghai
BEGIN:STANDARD
TZOFFSETFROM:+0800
TZOFFSETTO:+0800
TZNAME:CST
DTSTART:20220101T000000
END:STANDARD
END:VTIMEZONE
BEGIN:VEVENT
DTSTART;TZID=Asia/Shanghai:20231209T183000
DTEND;TZID=Asia/Shanghai:20231209T233000
DTSTAMP:20260419T235201
CREATED:20230823T125526Z
LAST-MODIFIED:20231201T054727Z
UID:1932-1702146600-1702164600@docwa.com.au
SUMMARY:DOCWA Xmas Party
DESCRIPTION:DOCWA  Xmas Party is Dec 9th
URL:https://docwa.com.au/event/docwa-xmas-party-2/
LOCATION:Bassendean Hotel\, Australia
ORGANIZER;CN="Rochelle Burley":MAILTO:events@docwa.com.au
END:VEVENT
END:VCALENDAR