BEGIN:VCALENDAR
VERSION:2.0
PRODID:-//DOCWA - ECPv6.15.20//NONSGML v1.0//EN
CALSCALE:GREGORIAN
METHOD:PUBLISH
X-ORIGINAL-URL:https://docwa.com.au
X-WR-CALDESC:Events for DOCWA
REFRESH-INTERVAL;VALUE=DURATION:PT1H
X-Robots-Tag:noindex
X-PUBLISHED-TTL:PT1H
BEGIN:VTIMEZONE
TZID:Asia/Shanghai
BEGIN:STANDARD
TZOFFSETFROM:+0800
TZOFFSETTO:+0800
TZNAME:CST
DTSTART:20220101T000000
END:STANDARD
END:VTIMEZONE
BEGIN:VEVENT
DTSTART;TZID=Asia/Shanghai:20231117T083000
DTEND;TZID=Asia/Shanghai:20231119T190000
DTSTAMP:20260420T012546
CREATED:20230823T125359Z
LAST-MODIFIED:20231105T100814Z
UID:1930-1700209800-1700420400@docwa.com.au
SUMMARY:Ride to the Albany Hill Climb event
DESCRIPTION:DOCWA is holding a club ride to the ALBANY VINTAGE & CLASSIC MOTORCYCLE WEEKEND (SATURDAY\, NOVEMBER 18\, 2023 and SUNDAY\, NOVEMBER 19\, 2023)\nOur ride will depart from the Ampol Foodary in Byford at 8.30am on Friday 17th November 2023. We will be taking a ‘less direct’ route (covering around 500kms) stopping for coffee and lunch. We will get into Albany late arvo.\nThis is a cracking weekend with plenty of things to do starting Saturday morning.\nFollow the link below if you want to enter the hill climb (hurry up if you do – spots are limited)\nhttps://l.facebook.com/l.php…\nPS – if you are planning on attending get your accommodation sorted ASAP!
URL:https://docwa.com.au/event/ride-to-the-albany-hill-climb-event/
LOCATION:Ampol Foodary\, Byford
END:VEVENT
END:VCALENDAR