BEGIN:VCALENDAR
VERSION:2.0
PRODID:-//DOCWA - ECPv6.15.20//NONSGML v1.0//EN
CALSCALE:GREGORIAN
METHOD:PUBLISH
X-WR-CALNAME:DOCWA
X-ORIGINAL-URL:https://docwa.com.au
X-WR-CALDESC:Events for DOCWA
REFRESH-INTERVAL;VALUE=DURATION:PT1H
X-Robots-Tag:noindex
X-PUBLISHED-TTL:PT1H
BEGIN:VTIMEZONE
TZID:Asia/Shanghai
BEGIN:STANDARD
TZOFFSETFROM:+0800
TZOFFSETTO:+0800
TZNAME:CST
DTSTART:20220101T000000
END:STANDARD
END:VTIMEZONE
BEGIN:VEVENT
DTSTART;TZID=Asia/Shanghai:20231022T090000
DTEND;TZID=Asia/Shanghai:20231022T120000
DTSTAMP:20260420T025735
CREATED:20230823T125108Z
LAST-MODIFIED:20231015T230857Z
UID:1925-1697965200-1697976000@docwa.com.au
SUMMARY:Sunday Club Ride to  Roscos rocket car
DESCRIPTION:Visit to Roscos McGlashan Rocket car to check out this High tech Vehicle trying to break the 1000 mph record.\nThen on to lunch\nMeet at BP Wild Bean in Ascot at 9AM.\nRide Captain Pres. Dave McPhee.
URL:https://docwa.com.au/event/saturday-club-ride/
LOCATION:BP Wild Bean in Ascot
END:VEVENT
END:VCALENDAR