BEGIN:VCALENDAR
VERSION:2.0
PRODID:-//DOCWA - ECPv6.15.20//NONSGML v1.0//EN
CALSCALE:GREGORIAN
METHOD:PUBLISH
X-WR-CALNAME:DOCWA
X-ORIGINAL-URL:https://docwa.com.au
X-WR-CALDESC:Events for DOCWA
REFRESH-INTERVAL;VALUE=DURATION:PT1H
X-Robots-Tag:noindex
X-PUBLISHED-TTL:PT1H
BEGIN:VTIMEZONE
TZID:Asia/Shanghai
BEGIN:STANDARD
TZOFFSETFROM:+0800
TZOFFSETTO:+0800
TZNAME:CST
DTSTART:20220101T000000
END:STANDARD
END:VTIMEZONE
BEGIN:VEVENT
DTSTART;TZID=Asia/Shanghai:20231014T074500
DTEND;TZID=Asia/Shanghai:20231014T163000
DTSTAMP:20260420T025737
CREATED:20230823T124901Z
LAST-MODIFIED:20231008T110346Z
UID:1923-1697269500-1697301000@docwa.com.au
SUMMARY:Club Ride to the Capel River Classic (incl 404 bikes)
DESCRIPTION:This is a ride to this excellent event – which promises to be bigger and better last year. \nCapel River Classic details here: https://fb.me/e/aR9n2fIME \nEach way ride about 3 hours. \nWe will leave from the Ampol Foodary in Byford at 7.45am sharp.\nFairly direct route to Capel via a short fuel/coffee stop in Donnybrook. Should take around 3 hours all up – so we will get to the event not too long after it kicks off. \nRide home (for those who want to stay in the group) will be a little longer and windier… \nRide Captain Vice Pres. Dave Lunn.
URL:https://docwa.com.au/event/club-ride-to-the-capel-river-classic-incl-404-bikes/
LOCATION:Ampol Foodary\, Byford
END:VEVENT
END:VCALENDAR