BEGIN:VCALENDAR
VERSION:2.0
PRODID:-//DOCWA - ECPv6.15.20//NONSGML v1.0//EN
CALSCALE:GREGORIAN
METHOD:PUBLISH
X-WR-CALNAME:DOCWA
X-ORIGINAL-URL:https://docwa.com.au
X-WR-CALDESC:Events for DOCWA
REFRESH-INTERVAL;VALUE=DURATION:PT1H
X-Robots-Tag:noindex
X-PUBLISHED-TTL:PT1H
BEGIN:VTIMEZONE
TZID:Asia/Shanghai
BEGIN:STANDARD
TZOFFSETFROM:+0800
TZOFFSETTO:+0800
TZNAME:CST
DTSTART:20220101T000000
END:STANDARD
END:VTIMEZONE
BEGIN:VEVENT
DTSTART;TZID=Asia/Shanghai:20230916T080000
DTEND;TZID=Asia/Shanghai:20230917T120000
DTSTAMP:20260420T043125
CREATED:20230914T225926Z
LAST-MODIFIED:20230914T225944Z
UID:1940-1694851200-1694952000@docwa.com.au
SUMMARY:Tree planting weekend
DESCRIPTION:Heads up – Tree Planting Weekend at Grunters farm 16 & 17 September. Family friendly\, bring the kids\, dirt bikes\, go-carts etc. \nSame place as the Numduc Rally
URL:https://docwa.com.au/event/tree-planting-weekend/
END:VEVENT
END:VCALENDAR