BEGIN:VCALENDAR
VERSION:2.0
PRODID:-//DOCWA - ECPv6.15.20//NONSGML v1.0//EN
CALSCALE:GREGORIAN
METHOD:PUBLISH
X-WR-CALNAME:DOCWA
X-ORIGINAL-URL:https://docwa.com.au
X-WR-CALDESC:Events for DOCWA
REFRESH-INTERVAL;VALUE=DURATION:PT1H
X-Robots-Tag:noindex
X-PUBLISHED-TTL:PT1H
BEGIN:VTIMEZONE
TZID:Asia/Shanghai
BEGIN:STANDARD
TZOFFSETFROM:+0800
TZOFFSETTO:+0800
TZNAME:CST
DTSTART:20220101T000000
END:STANDARD
END:VTIMEZONE
BEGIN:VEVENT
DTSTART;TZID=Asia/Shanghai:20230819T130000
DTEND;TZID=Asia/Shanghai:20230819T170000
DTSTAMP:20260420T061159
CREATED:20230713T140327Z
LAST-MODIFIED:20230713T140327Z
UID:1901-1692450000-1692464400@docwa.com.au
SUMMARY:Afternoon Ride (incl 404 bikes)
DESCRIPTION:Saturday afternoon ride with 404 bikes included.\nRide Captain Dave Lunn\nLeaving from BP Ascot\nStands up 1.00 pm
URL:https://docwa.com.au/event/afternoon-ride-incl-404-bikes/
LOCATION:BP Wild Bean in Ascot
END:VEVENT
END:VCALENDAR