BEGIN:VCALENDAR
VERSION:2.0
PRODID:-//DOCWA - ECPv6.15.20//NONSGML v1.0//EN
CALSCALE:GREGORIAN
METHOD:PUBLISH
X-ORIGINAL-URL:https://docwa.com.au
X-WR-CALDESC:Events for DOCWA
REFRESH-INTERVAL;VALUE=DURATION:PT1H
X-Robots-Tag:noindex
X-PUBLISHED-TTL:PT1H
BEGIN:VTIMEZONE
TZID:Asia/Shanghai
BEGIN:STANDARD
TZOFFSETFROM:+0800
TZOFFSETTO:+0800
TZNAME:CST
DTSTART:20220101T000000
END:STANDARD
END:VTIMEZONE
BEGIN:VEVENT
DTSTART;TZID=Asia/Shanghai:20230708T190000
DTEND;TZID=Asia/Shanghai:20230708T213000
DTSTAMP:20260420T074906
CREATED:20230428T025921Z
LAST-MODIFIED:20230428T025921Z
UID:1870-1688842800-1688851800@docwa.com.au
SUMMARY:AGM - Annual General Meeting
DESCRIPTION:DOCWA Annual General Meeting – Please join us to share your ideas and catch up with everyone. \nThere will be positions on the commitee that you can give a few hours a month to keep the club going. \nChange of venue this year. Join us upstairs at the Balmoral Hotel in East Vic Park. There’s a bar tab and food too!
URL:https://docwa.com.au/event/agm-annual-general-meeting/
LOCATION:The Balmoral Hotel\, 901 Albany Hwy\, East Victoria Park\, WA\, 6101\, Australia
END:VEVENT
END:VCALENDAR