BEGIN:VCALENDAR
VERSION:2.0
PRODID:-//DOCWA - ECPv6.15.20//NONSGML v1.0//EN
CALSCALE:GREGORIAN
METHOD:PUBLISH
X-WR-CALNAME:DOCWA
X-ORIGINAL-URL:https://docwa.com.au
X-WR-CALDESC:Events for DOCWA
REFRESH-INTERVAL;VALUE=DURATION:PT1H
X-Robots-Tag:noindex
X-PUBLISHED-TTL:PT1H
BEGIN:VTIMEZONE
TZID:Asia/Shanghai
BEGIN:STANDARD
TZOFFSETFROM:+0800
TZOFFSETTO:+0800
TZNAME:CST
DTSTART:20220101T000000
END:STANDARD
END:VTIMEZONE
BEGIN:VEVENT
DTSTART;TZID=Asia/Shanghai:20230611T084500
DTEND;TZID=Asia/Shanghai:20230611T150000
DTSTAMP:20260420T092801
CREATED:20230428T022451Z
LAST-MODIFIED:20230606T234946Z
UID:1864-1686473100-1686495600@docwa.com.au
SUMMARY:Club Ride - Ride Captain Dave Alberghini
DESCRIPTION:Club Ride\nHeading south for a coffee first and then on to a secret pub lunch.\nThese longer rides are always fun with an opportunity to chat with fellow members. No problem if you leave early to suit your own arrangements\nRide Captain Dave Alberghini\n\nStands up will be 9.00 at this stage
URL:https://docwa.com.au/event/club-ride-10/
LOCATION:Ampol Foodary\, Byford
ORGANIZER;CN="Dave Alberghini":MAILTO:ride_captains@docwa.com.au
END:VEVENT
END:VCALENDAR