BEGIN:VCALENDAR
VERSION:2.0
PRODID:-//DOCWA - ECPv6.15.20//NONSGML v1.0//EN
CALSCALE:GREGORIAN
METHOD:PUBLISH
X-ORIGINAL-URL:https://docwa.com.au
X-WR-CALDESC:Events for DOCWA
REFRESH-INTERVAL;VALUE=DURATION:PT1H
X-Robots-Tag:noindex
X-PUBLISHED-TTL:PT1H
BEGIN:VTIMEZONE
TZID:Asia/Shanghai
BEGIN:STANDARD
TZOFFSETFROM:+0800
TZOFFSETTO:+0800
TZNAME:CST
DTSTART:20220101T000000
END:STANDARD
END:VTIMEZONE
BEGIN:VEVENT
DTSTART;TZID=Asia/Shanghai:20230326T080000
DTEND;TZID=Asia/Shanghai:20230326T150000
DTSTAMP:20260420T153209
CREATED:20230122T100950Z
LAST-MODIFIED:20230301T160304Z
UID:1798-1679817600-1679842800@docwa.com.au
SUMMARY:2023 Perth Classic Car Show
DESCRIPTION:It’s that time again!  The 2023 Perth Classic Car Show – presented by the Council of Motoring Clubs WA and long time sponsor Shannons. \nThis is Perth’s premier classic motoring event – involving more than 100 clubs and usually attracting around 800 vehicles. \nDOCWA is proud to be amongst the very few motorcycle clubs able to display. Good news is that this event is definitely NOT restricted to displaying historic bikes. In fact the more the merrier.  The crowds love to see Ducatis across the decades lined up. \nBring your bike(s) along first thing – entrance off Grandstand Road – Gate 4 \n 
URL:https://docwa.com.au/event/2023-perth-classic-car-show/
LOCATION:Ascot Racecourse
END:VEVENT
END:VCALENDAR