BEGIN:VCALENDAR
VERSION:2.0
PRODID:-//DOCWA - ECPv6.15.20//NONSGML v1.0//EN
CALSCALE:GREGORIAN
METHOD:PUBLISH
X-ORIGINAL-URL:https://docwa.com.au
X-WR-CALDESC:Events for DOCWA
REFRESH-INTERVAL;VALUE=DURATION:PT1H
X-Robots-Tag:noindex
X-PUBLISHED-TTL:PT1H
BEGIN:VTIMEZONE
TZID:Asia/Shanghai
BEGIN:STANDARD
TZOFFSETFROM:+0800
TZOFFSETTO:+0800
TZNAME:CST
DTSTART:20220101T000000
END:STANDARD
END:VTIMEZONE
BEGIN:VEVENT
DTSTART;TZID=Asia/Shanghai:20230311T080000
DTEND;TZID=Asia/Shanghai:20230312T170000
DTSTAMP:20260420T153209
CREATED:20230122T095940Z
LAST-MODIFIED:20230122T095940Z
UID:1795-1678521600-1678640400@docwa.com.au
SUMMARY:Ride to/from Bunbury Indian Harley Club Annual Rally
DESCRIPTION:DOCWA members regularly attend this massive 2 day event – which includes hundreds of amazing old bikes riding around the SW. \nWe have decided to make riding to and from the rally a club event – for those participating or observing.  Check out the Indian Harley website for more details
URL:https://docwa.com.au/event/ride-to-from-bunbury-indian-harley-club-annual-rally/
LOCATION:Bunbury Motorcyle Club
ORGANIZER;CN="Chrispy":MAILTO:404Registrar@docwa.com.au
END:VEVENT
END:VCALENDAR