BEGIN:VCALENDAR
VERSION:2.0
PRODID:-//DOCWA - ECPv6.15.20//NONSGML v1.0//EN
CALSCALE:GREGORIAN
METHOD:PUBLISH
X-WR-CALNAME:DOCWA
X-ORIGINAL-URL:https://docwa.com.au
X-WR-CALDESC:Events for DOCWA
REFRESH-INTERVAL;VALUE=DURATION:PT1H
X-Robots-Tag:noindex
X-PUBLISHED-TTL:PT1H
BEGIN:VTIMEZONE
TZID:Asia/Shanghai
BEGIN:STANDARD
TZOFFSETFROM:+0800
TZOFFSETTO:+0800
TZNAME:CST
DTSTART:20220101T000000
END:STANDARD
END:VTIMEZONE
BEGIN:VEVENT
DTSTART;TZID=Asia/Shanghai:20230122T080000
DTEND;TZID=Asia/Shanghai:20230122T160000
DTSTAMP:20260420T175746
CREATED:20221228T002751Z
LAST-MODIFIED:20230107T010029Z
UID:1767-1674374400-1674403200@docwa.com.au
SUMMARY:Fremantle Fishing Boat Harbour 22 January- Fremantle Canceled
DESCRIPTION:Everyone has been looking forward to the event and the council staff are very supportive of it.\n\nUnfortunately I couldn’t provide the necessary criteria for bump in which is crucial to public safety and very important for public liability in the event of an incident.\n\nI am very happy to work on it for January 2024 as it will give us time to liaise with the members and have confirmation much earlier.\n\n\n\n\n\nDetails are coming in\, Docwa will be there with all types of bikes new and old. we will have a Gazebo up and Breaky or lunch. Always a great event there .\nWe are very excited to announce The Italian Car Spectacular will be premiering for the first time in the majestic surrounds of Western Australia’s iconic Fremantle Fishing Boat Harbour on Sunday 22 January 2023!\nSee stunning cars from the golden era of Italian automotive design through to the modern supercars of today!\nFerrari\, Alfa Romeo\, Fiat\, Lancia\, Ducati\, Vespas and so much more for you to experience!\nThe BEST of ITALIAN cars and bikes will be on display for all motoring enthusiasts to enjoy.\nA FREE ENTRY\, FAMILY FRIENDLY INCLUSIVE EVENT.\nSupporting Rotary Northbridge.\nProudly presented by the Fremantle Fishing Boat Harbour Traders Group.\n\nSee less
URL:https://docwa.com.au/event/fremantle-fishing-boat-harbour-22-january-freemantle/
END:VEVENT
END:VCALENDAR