BEGIN:VCALENDAR
VERSION:2.0
PRODID:-//DOCWA - ECPv6.15.20//NONSGML v1.0//EN
CALSCALE:GREGORIAN
METHOD:PUBLISH
X-ORIGINAL-URL:https://docwa.com.au
X-WR-CALDESC:Events for DOCWA
REFRESH-INTERVAL;VALUE=DURATION:PT1H
X-Robots-Tag:noindex
X-PUBLISHED-TTL:PT1H
BEGIN:VTIMEZONE
TZID:Asia/Shanghai
BEGIN:STANDARD
TZOFFSETFROM:+0800
TZOFFSETTO:+0800
TZNAME:CST
DTSTART:20210101T000000
END:STANDARD
END:VTIMEZONE
BEGIN:VEVENT
DTSTART;TZID=Asia/Shanghai:20221229T110000
DTEND;TZID=Asia/Shanghai:20221229T140000
DTSTAMP:20260420T175849
CREATED:20221228T012250Z
LAST-MODIFIED:20221228T012457Z
UID:1770-1672311600-1672322400@docwa.com.au
SUMMARY:Impromptu run to Two rocks pub
DESCRIPTION:With Xmas over time for a Impromptu ride to Two rocks pub\, meet at the BP servo in Ascot at 11am for a run up the coast to 2 rocks.\n404 rego bikes please email ridecaptains@docwa.com.au to register it . cheers
URL:https://docwa.com.au/event/impromptu-run-to-two-rocks-pub/
LOCATION:BP Wild Bean in Ascot
END:VEVENT
END:VCALENDAR