BEGIN:VCALENDAR
VERSION:2.0
PRODID:-//DOCWA - ECPv6.15.20//NONSGML v1.0//EN
CALSCALE:GREGORIAN
METHOD:PUBLISH
X-WR-CALNAME:DOCWA
X-ORIGINAL-URL:https://docwa.com.au
X-WR-CALDESC:Events for DOCWA
REFRESH-INTERVAL;VALUE=DURATION:PT1H
X-Robots-Tag:noindex
X-PUBLISHED-TTL:PT1H
BEGIN:VTIMEZONE
TZID:Asia/Shanghai
BEGIN:STANDARD
TZOFFSETFROM:+0800
TZOFFSETTO:+0800
TZNAME:CST
DTSTART:20210101T000000
END:STANDARD
END:VTIMEZONE
BEGIN:VEVENT
DTSTART;TZID=Asia/Shanghai:20221113T080000
DTEND;TZID=Asia/Shanghai:20221113T150000
DTSTAMP:20260420T223803
CREATED:20220902T072634Z
LAST-MODIFIED:20221104T013349Z
UID:1688-1668326400-1668351600@docwa.com.au
SUMMARY:2022 Rotary Bella Italia
DESCRIPTION:2022 Rotary Bella Italia\nSUNDAY 13 NOVEMBER 2022\n9.30am – 3.00pm (display car entry from 8.00am)\nMulberry Estate\, 34 Hamersley Road\, Caversham\nwww.italiancarday.com.au\n————————————————-\nNOTE:  Group ride to the event if you are interested.  We will leave at 8am sharp from BP Ascot. Free entry for displayers (DOCWA will arrange tickets) and free full buffet breakfast for DOCWA financial members (check emails for details).\n————————————————-\nWhy travel overseas when the best is already here?\nThe Rotary Northbridge Italian Car Day has become Bella Italia\, an event where you can experience fine Italian food\, wine and music\, as well as those amazing Italian cars and motorcycles – all in our beautiful Swan Valley. \nEnjoy a coffee or gelato as you admire the best of Ferrari\, Lamborghini\, Maserati\, Alfa Romeo\, Fiat\, Lancia\, De Tomaso\, Ducati\, Moto Guzzi\, Lambretta\, Vespa & more. Over 200 classic vehicles\, vintage to new – the cream of Perth’s Italian cars and motorcycles will be on display. \nAll funds raised will go to Rotary Community projects.\nFor more info visit the official webpage\,
URL:https://docwa.com.au/event/2022-rotary-bella-italia/
LOCATION:Mulberry Estate\, Caversham
END:VEVENT
END:VCALENDAR