BEGIN:VCALENDAR
VERSION:2.0
PRODID:-//DOCWA - ECPv6.15.20//NONSGML v1.0//EN
CALSCALE:GREGORIAN
METHOD:PUBLISH
X-WR-CALNAME:DOCWA
X-ORIGINAL-URL:https://docwa.com.au
X-WR-CALDESC:Events for DOCWA
REFRESH-INTERVAL;VALUE=DURATION:PT1H
X-Robots-Tag:noindex
X-PUBLISHED-TTL:PT1H
BEGIN:VTIMEZONE
TZID:Asia/Shanghai
BEGIN:STANDARD
TZOFFSETFROM:+0800
TZOFFSETTO:+0800
TZNAME:CST
DTSTART:20210101T000000
END:STANDARD
END:VTIMEZONE
BEGIN:VEVENT
DTSTART;TZID=Asia/Shanghai:20221105T083000
DTEND;TZID=Asia/Shanghai:20221106T170000
DTSTAMP:20260420T223654
CREATED:20220929T132929Z
LAST-MODIFIED:20221012T133233Z
UID:1707-1667637000-1667754000@docwa.com.au
SUMMARY:Long Way Down - Overnighter ride to Walpole
DESCRIPTION:Ride Captain Scotty Havercroft \nThis is a special ride. \nOvernight stay in Walpole. \nThe best roads in the state \nStart at 9.00 am Harvey or metro start earlier TBA\n\nAccommodation will be partly subsidised by the club\n\nPlease indicate your interest by emailing ride_captains@docwa.com.au
URL:https://docwa.com.au/event/long-way-down-overnighter-ride-to-walpole/
LOCATION:South West Higheway Harvey\, 49 South Western Highway\, Harvey\, WA\, 6220
END:VEVENT
END:VCALENDAR