BEGIN:VCALENDAR
VERSION:2.0
PRODID:-//DOCWA - ECPv6.15.20//NONSGML v1.0//EN
CALSCALE:GREGORIAN
METHOD:PUBLISH
X-ORIGINAL-URL:https://docwa.com.au
X-WR-CALDESC:Events for DOCWA
REFRESH-INTERVAL;VALUE=DURATION:PT1H
X-Robots-Tag:noindex
X-PUBLISHED-TTL:PT1H
BEGIN:VTIMEZONE
TZID:Asia/Shanghai
BEGIN:STANDARD
TZOFFSETFROM:+0800
TZOFFSETTO:+0800
TZNAME:CST
DTSTART:20210101T000000
END:STANDARD
END:VTIMEZONE
BEGIN:VEVENT
DTSTART;TZID=Asia/Shanghai:20221009T130000
DTEND;TZID=Asia/Shanghai:20221009T180000
DTSTAMP:20260421T014827
CREATED:20220929T131247Z
LAST-MODIFIED:20220929T131247Z
UID:1705-1665320400-1665338400@docwa.com.au
SUMMARY:Casual Arvo Ride (includes 404 bikes) - Captain Dave Lunn
DESCRIPTION:Note afternoon start time.\nNice casual ride – 404 friendly\, so bring out the old girls\nRide captain Dave Lunn
URL:https://docwa.com.au/event/casual-arvo-ride-includes-404-bikes-captain-dave-lunn/
LOCATION:BP Wild Bean in Ascot
END:VEVENT
END:VCALENDAR