BEGIN:VCALENDAR
VERSION:2.0
PRODID:-//DOCWA - ECPv6.15.20//NONSGML v1.0//EN
CALSCALE:GREGORIAN
METHOD:PUBLISH
X-ORIGINAL-URL:https://docwa.com.au
X-WR-CALDESC:Events for DOCWA
REFRESH-INTERVAL;VALUE=DURATION:PT1H
X-Robots-Tag:noindex
X-PUBLISHED-TTL:PT1H
BEGIN:VTIMEZONE
TZID:Asia/Shanghai
BEGIN:STANDARD
TZOFFSETFROM:+0800
TZOFFSETTO:+0800
TZNAME:CST
DTSTART:20210101T000000
END:STANDARD
END:VTIMEZONE
BEGIN:VEVENT
DTSTART;TZID=Asia/Shanghai:20220814T091500
DTEND;TZID=Asia/Shanghai:20220814T123000
DTSTAMP:20260421T050923
CREATED:20220805T093152Z
LAST-MODIFIED:20220811T120339Z
UID:1636-1660468500-1660480200@docwa.com.au
SUMMARY:Breakfast Ride
DESCRIPTION:Ride Captain Dave Lunn \nWinter later start due to cold mornings\, low sun and soft riders  \n9.15am arrive for 9.30am sharp departure. \nRemember it’s the Ride Captain’s decision to call the ride off (or not) if the weather turns nasty.  So stay tuned for announcements if it looks like rain.
URL:https://docwa.com.au/event/breakfast-ride-2/
LOCATION:BP Wild Bean in Ascot
END:VEVENT
END:VCALENDAR