BEGIN:VCALENDAR
VERSION:2.0
PRODID:-//DOCWA - ECPv6.15.20//NONSGML v1.0//EN
CALSCALE:GREGORIAN
METHOD:PUBLISH
X-ORIGINAL-URL:https://docwa.com.au
X-WR-CALDESC:Events for DOCWA
REFRESH-INTERVAL;VALUE=DURATION:PT1H
X-Robots-Tag:noindex
X-PUBLISHED-TTL:PT1H
BEGIN:VTIMEZONE
TZID:Asia/Shanghai
BEGIN:STANDARD
TZOFFSETFROM:+0800
TZOFFSETTO:+0800
TZNAME:CST
DTSTART:20210101T000000
END:STANDARD
END:VTIMEZONE
BEGIN:VEVENT
DTSTART;TZID=Asia/Shanghai:20220714T193000
DTEND;TZID=Asia/Shanghai:20220714T213000
DTSTAMP:20260421T065106
CREATED:20220217T145341Z
LAST-MODIFIED:20220217T145341Z
UID:1541-1657827000-1657834200@docwa.com.au
SUMMARY:Committee Meeting
DESCRIPTION:Monthly Committee Meeting – First for new committee
URL:https://docwa.com.au/event/committee-meeting-17/
LOCATION:Bayswater\, WA\, 6053\, Australia
END:VEVENT
END:VCALENDAR