BEGIN:VCALENDAR
VERSION:2.0
PRODID:-//DOCWA - ECPv6.15.20//NONSGML v1.0//EN
CALSCALE:GREGORIAN
METHOD:PUBLISH
X-WR-CALNAME:DOCWA
X-ORIGINAL-URL:https://docwa.com.au
X-WR-CALDESC:Events for DOCWA
REFRESH-INTERVAL;VALUE=DURATION:PT1H
X-Robots-Tag:noindex
X-PUBLISHED-TTL:PT1H
BEGIN:VTIMEZONE
TZID:Asia/Shanghai
BEGIN:STANDARD
TZOFFSETFROM:+0800
TZOFFSETTO:+0800
TZNAME:CST
DTSTART:20210101T000000
END:STANDARD
END:VTIMEZONE
BEGIN:VEVENT
DTSTART;TZID=Asia/Shanghai:20220625T093000
DTEND;TZID=Asia/Shanghai:20220625T163000
DTSTAMP:20260421T081800
CREATED:20220620T235456Z
LAST-MODIFIED:20220620T235653Z
UID:1599-1656149400-1656174600@docwa.com.au
SUMMARY:Ride to The Bike Shed Times Capel River Classic Motorcycle Show & Shine
DESCRIPTION:We have arranged a group ride to the Capel River Classic Motorcycle Show & Shine – as a show of support to fellow club members organising and displaying in the event. \nIf you are free\, please join President Macca for a decent ride and then enjoy checking out the diverse array of bikes available. \nWe will meet at the BP Southbound Baldivis for a 9.30am departure. \nMore details\, including how to let the organisers know you are attending\, can be found here. Capel River Classic
URL:https://docwa.com.au/event/ride-to-the-bike-shed-times-capel-river-classic-motorcycle-show-shine/
LOCATION:BP Baldivis (Kwinana Freeway Southbound)\, Lot 192 Leary Road\, Baldivis\, Western Australia\, 6171\, Australia
END:VEVENT
END:VCALENDAR