BEGIN:VCALENDAR
VERSION:2.0
PRODID:-//DOCWA - ECPv6.15.20//NONSGML v1.0//EN
CALSCALE:GREGORIAN
METHOD:PUBLISH
X-WR-CALNAME:DOCWA
X-ORIGINAL-URL:https://docwa.com.au
X-WR-CALDESC:Events for DOCWA
REFRESH-INTERVAL;VALUE=DURATION:PT1H
X-Robots-Tag:noindex
X-PUBLISHED-TTL:PT1H
BEGIN:VTIMEZONE
TZID:Asia/Shanghai
BEGIN:STANDARD
TZOFFSETFROM:+0800
TZOFFSETTO:+0800
TZNAME:CST
DTSTART:20210101T000000
END:STANDARD
END:VTIMEZONE
BEGIN:VEVENT
DTSTART;TZID=Asia/Shanghai:20220508T083000
DTEND;TZID=Asia/Shanghai:20220508T103000
DTSTAMP:20260421T095327
CREATED:20220217T150041Z
LAST-MODIFIED:20220502T235110Z
UID:1547-1651998600-1652005800@docwa.com.au
SUMMARY:Brekky Ride and (president Macca's birthday) - Captain Dave A.
DESCRIPTION:Ride update Members!  Having now worked out that 8 May is Mother’s Day :)\, and establishng that most cafes in cooee of the city will be packed with families\, we have decided to shorten the ride and conclude with a quick coffee.  So if your Mum isn’t nearby\, or you just want to escape Mother’s Day bedlam\, feel free to come along. Note also the change of starting location to the Ampol (formerly Caltex) on SW Highwsay in Byford. We are helping out our South of the River friends!  8.15am arrive for 8.30am departure.
URL:https://docwa.com.au/event/brekky-ride-and-president-maccas-birthday-captain-dave-a/
LOCATION:Ampol Foodary\, Byford
ORGANIZER;CN="Dave Alberghini":MAILTO:ride_captains@docwa.com.au
END:VEVENT
END:VCALENDAR