BEGIN:VCALENDAR
VERSION:2.0
PRODID:-//DOCWA - ECPv6.15.20//NONSGML v1.0//EN
CALSCALE:GREGORIAN
METHOD:PUBLISH
X-WR-CALNAME:DOCWA
X-ORIGINAL-URL:https://docwa.com.au
X-WR-CALDESC:Events for DOCWA
REFRESH-INTERVAL;VALUE=DURATION:PT1H
X-Robots-Tag:noindex
X-PUBLISHED-TTL:PT1H
BEGIN:VTIMEZONE
TZID:Asia/Shanghai
BEGIN:STANDARD
TZOFFSETFROM:+0800
TZOFFSETTO:+0800
TZNAME:CST
DTSTART:20210101T000000
END:STANDARD
END:VTIMEZONE
BEGIN:VEVENT
DTSTART;TZID=Asia/Shanghai:20220501T090000
DTEND;TZID=Asia/Shanghai:20220501T140000
DTSTAMP:20260421T095326
CREATED:20220217T145803Z
LAST-MODIFIED:20220420T001734Z
UID:1544-1651395600-1651413600@docwa.com.au
SUMMARY:Shannons Perth Classic Car Show - ALL Ducatis wanted
DESCRIPTION:Shannons are a MAJOR Sponsor of our Club\, they don’t ask much but give BIG in return.\nDOCWA has been asked for as many owners as possible to display at the Show.\nClassics (404)\, modern classics and new bikes all welcome.\nWe have our own designated area in the shade and there is always heaps to see throughout the day.\nEntry will be free for those who display. Please Call Rochelle 0409 686 982 or Chrispy 0407 166 594 to let us know you will be attending so we can send you all the relevant info.  Stay tuned for email updates too.
URL:https://docwa.com.au/event/shannons-perth-classic-car-show-all-ducatis-wanted/
LOCATION:Ascot Racecourse
ORGANIZER;CN="Rochelle Burley":MAILTO:events@docwa.com.au
END:VEVENT
END:VCALENDAR