BEGIN:VCALENDAR
VERSION:2.0
PRODID:-//DOCWA - ECPv6.15.20//NONSGML v1.0//EN
CALSCALE:GREGORIAN
METHOD:PUBLISH
X-ORIGINAL-URL:https://docwa.com.au
X-WR-CALDESC:Events for DOCWA
REFRESH-INTERVAL;VALUE=DURATION:PT1H
X-Robots-Tag:noindex
X-PUBLISHED-TTL:PT1H
BEGIN:VTIMEZONE
TZID:Asia/Shanghai
BEGIN:STANDARD
TZOFFSETFROM:+0800
TZOFFSETTO:+0800
TZNAME:CST
DTSTART:20210101T000000
END:STANDARD
END:VTIMEZONE
BEGIN:VEVENT
DTSTART;TZID=Asia/Shanghai:20220410T090000
DTEND;TZID=Asia/Shanghai:20220410T130000
DTSTAMP:20260421T114122
CREATED:20220217T142017Z
LAST-MODIFIED:20220405T095729Z
UID:1523-1649581200-1649595600@docwa.com.au
SUMMARY:York Motorcycle Festival - Ride to York and enjoy the day
DESCRIPTION:The Famous York MC Festival is on again this year. \nThe 2020 show was cancelled due to Covid and 2021 was a very wet day so hopefully the crowds\, and the bikes\, will be back in full swing this year. \nWe will head off at 9am and ride as a group to York to coincide with the Festival start at 10am. \nPresident Macca will be our Ride Captain.
URL:https://docwa.com.au/event/york-motorcycle-festival-ride-to-york-and-enjoy-the-day/
LOCATION:Ampol Foodary Midvale\, Great Eastern Highway\, 375 Great Eastern Hwy\, Midvale\, WA\, Australia
END:VEVENT
END:VCALENDAR